BEGIN:VCALENDAR
VERSION:2.0
PRODID:-//ChamberMaster//Event Calendar 2.0//EN
METHOD:PUBLISH
X-PUBLISHED-TTL:P3D
REFRESH-INTERVAL:P3D
CALSCALE:GREGORIAN
BEGIN:VEVENT
DTSTART:20190823T000000Z
DTEND:20190823T020000Z
X-MICROSOFT-CDO-ALLDAYEVENT:FALSE
SUMMARY:The Candymakers at Bass Street Landing
DESCRIPTION:With summer comes the sound of live outdoor music in our downtowns! Enjoy this free summer concert series every Thursday night from May 30   August 29. \n\nMoline Centre's Thursday Night Summer Concert Series takes place from 7:00 p.m. to 9:00 p.m. beginning the last Thursday in May until the last Thursday in August on the Plaza at Bass Street Landing. All you need to bring is a lawn chair! Food and beverages are available for purchase.\n\nNo outside food or beverages allowed.\n\nThe Summer Concert Series is sponsored by Courtesy Car City and Townsquare Media. The series is presented by Moline Centre\, a division of the City of Moline representing downtown businesses and revitalization efforts.\n\nLearn more: www.molinecentre.org
X-ALT-DESC;FMTTYPE=text/html:<p class="intro" style="margin-top:0in"><strong><span style="font-size:11.0pt\;\nfont-family:&quot\;Arial&quot\;\,&quot\;sans-serif&quot\;\;font-weight:normal">With summer comes the sound of live outdoor music in our downtowns! Enjoy this free summer concert series every Thursday night from May 30 &ndash\; August 29. </span></strong><span style="font-size:11.0pt\;font-family:&quot\;Arial&quot\;\,&quot\;sans-serif&quot\;"><o:p></o:p></span></p>\n\n<p style="margin-top:0in"><span style="font-size:11.0pt\;font-family:&quot\;Arial&quot\;\,&quot\;sans-serif&quot\;">Moline Centre&rsquo\;s Thursday Night Summer Concert Series takes place from 7:00 p.m. to 9:00 p.m. beginning the last Thursday in May until the last Thursday in August on the Plaza at Bass Street Landing. All you need to bring is a lawn chair! Food and beverages are available for purchase.<span style="color:#1F497D"><o:p></o:p></span></span></p>\n\n<p style="margin-top:0in"><span style="font-size:11.0pt\;font-family:&quot\;Arial&quot\;\,&quot\;sans-serif&quot\;">No outside food or beverages allowed.<o:p></o:p></span></p>\n\n<p style="margin-top:0in"><span style="font-size:11.0pt\;font-family:&quot\;Arial&quot\;\,&quot\;sans-serif&quot\;">The Summer Concert Series is sponsored by Courtesy Car City and Townsquare Media. The series is presented by Moline Centre\, a division of the City of Moline representing downtown businesses and revitalization efforts.<o:p></o:p></span></p>\n\n<p style="margin-top:0in"><span style="font-size:11.0pt\;font-family:&quot\;Arial&quot\;\,&quot\;sans-serif&quot\;">Learn more: <a href="http://www.molinecentre.org">www.molinecentre.org</a><o:p></o:p></span></p>\n
LOCATION:Bass Street Landing
UID:e.2843.15385
SEQUENCE:3
DTSTAMP:20260422T101245Z
URL:https://member.quadcitieschamber.com/events/details/the-candymakers-at-bass-street-landing-15385
END:VEVENT

END:VCALENDAR
