BEGIN:VCALENDAR
VERSION:2.0
PRODID:-//ChamberMaster//Event Calendar 2.0//EN
METHOD:PUBLISH
X-PUBLISHED-TTL:P3D
REFRESH-INTERVAL:P3D
CALSCALE:GREGORIAN
BEGIN:VEVENT
DTSTART:20120127T180000Z
DTEND:20120127T183000Z
X-MICROSOFT-CDO-ALLDAYEVENT:FALSE
SUMMARY:The Cellular Connection #980 Ribbon Cutting
DESCRIPTION:The Cellular Connection #980 will celebrate their grand opening with a ribbon cutting on Friday\, January 27th at noon.  The Grand Opening/Open House will run from 11am to 1pm with the actual ribbon cutting taking place at noon.  This store is located at 5200 Avenue of the Cities\, in front of K-Mart. With over 600 stores\, The Cellular Connection is the largest exclusive Verizon Premium Wireless Retailer and Preferred DISH Network satellite provider in the country.  “We are hands down the best choice for your mobile technology needs and are committed to providing the best customer experience in wireless.” To learn more about the company\, visit www.ecellularconnection.com
X-ALT-DESC;FMTTYPE=text/html:<DIV><FONT face=Calibri><P style="MARGIN: 0in 0in 0pt" class=MsoNormal>The Cellular Connection #980 will celebrate their grand opening with a ribbon cutting on Friday\, January 27<SUP>th</SUP> at noon.<SPAN style="mso-spacerun: yes">&nbsp\; </SPAN>The Grand Opening/Open House will run from 11am to 1pm with the actual ribbon cutting taking place at noon.<SPAN style="mso-spacerun: yes">&nbsp\; </SPAN>This store is located at 5200 Avenue of the Cities\, in front of K-Mart.</P><P style="MARGIN: 0in 0in 0pt" class=MsoNormal><?xml:namespace prefix = o ns = "urn:schemas-microsoft-com:office:office" /><o:p>&nbsp\;</o:p></P><P style="MARGIN: 0in 0in 0pt" class=MsoNormal>With over 600 stores\, The Cellular Connection is the largest exclusive Verizon Premium Wireless Retailer and Preferred DISH Network satellite provider in the country.<SPAN style="mso-spacerun: yes">&nbsp\; </SPAN>“We are hands down the best choice for your mobile technology needs and are committed to providing the best customer experience in wireless.”</P><P style="MARGIN: 0in 0in 0pt" class=MsoNormal><o:p>&nbsp\;</o:p></P><P style="MARGIN: 0in 0in 0pt" class=MsoNormal>To learn more about the company\, visit <A href="http://www.ecellularconnection.com"><FONT face="Times New Roman">www.ecellularconnection.com</FONT></A></P><P style="MARGIN: 0in 0in 0pt" class=MsoNormal>&nbsp\;</P></FONT></DIV>
LOCATION:The Cellular Connection #9805200 Avenue of the Cities Moline\, IL 61265
UID:e.2843.338
SEQUENCE:3
DTSTAMP:20260422T093300Z
URL:https://member.quadcitieschamber.com/events/details/the-cellular-connection-980-ribbon-cutting-01-27-2012-338
END:VEVENT

END:VCALENDAR
