BEGIN:VCALENDAR
VERSION:2.0
PRODID:-//ChamberMaster//Event Calendar 2.0//EN
METHOD:PUBLISH
X-PUBLISHED-TTL:P3D
REFRESH-INTERVAL:P3D
CALSCALE:GREGORIAN
BEGIN:VEVENT
DTSTART:20190303T030000Z
DTEND:20190303T080000Z
X-MICROSOFT-CDO-ALLDAYEVENT:FALSE
SUMMARY:The Crystal Ball: BEEs\, Winterland\, Leah Leah
DESCRIPTION:Your Future Awaits! Come rage your face off with us at The Renwick Mansion! \n\n\n\n$10 in advance/$12 @ door\n\n\n\n8 pm Doors | 9pm Music\n\n9:00 - 9:30 Leah Leah \n\n9:45 - 11:00 BEEs \n\n11:15 -12:30 Winterland \n\n---------------------------------------------------------\n\nWinterland https://www.facebook.com/winterland73/\n\nBEEs https://bees.band/\n\nLeah Leah https://leahleah.bandcamp.com/
X-ALT-DESC;FMTTYPE=text/html:<span style="background-color:rgb(255\, 255\, 255)\; color:rgb(29\, 33\, 41)\; font-family:helvetica\,arial\,sans-serif\; font-size:14px">Your Future Awaits! Come rage your face off with us at The Renwick Mansion! </span><br />\n<br />\n<span style="background-color:rgb(255\, 255\, 255)\; color:rgb(29\, 33\, 41)\; font-family:helvetica\,arial\,sans-serif\; font-size:14px">$10 in advance/$12 @ door</span><br />\n<br />\n<span style="background-color:rgb(255\, 255\, 255)\; color:rgb(29\, 33\, 41)\; font-family:helvetica\,arial\,sans-serif\; font-size:14px">8 pm Doors | 9pm Music</span><br />\n<span style="background-color:rgb(255\, 255\, 255)\; color:rgb(29\, 33\, 41)\; font-family:helvetica\,arial\,sans-serif\; font-size:14px">9:00 - 9:30 Leah Leah </span><br />\n<span style="background-color:rgb(255\, 255\, 255)\; color:rgb(29\, 33\, 41)\; font-family:helvetica\,arial\,sans-serif\; font-size:14px">9:45 - 11:00 BEEs </span><br />\n<span style="background-color:rgb(255\, 255\, 255)\; color:rgb(29\, 33\, 41)\; font-family:helvetica\,arial\,sans-serif\; font-size:14px">11:15 -12:30 Winterland </span><br />\n<span style="background-color:rgb(255\, 255\, 255)\; color:rgb(29\, 33\, 41)\; font-family:helvetica\,arial\,sans-serif\; font-size:14px">---------------------------------------------------------</span><br />\n<span style="background-color:rgb(255\, 255\, 255)\; color:rgb(29\, 33\, 41)\; font-family:helvetica\,arial\,sans-serif\; font-size:14px">Winterland </span><a href="https://www.facebook.com/winterland73/" style="color: rgb(54\, 88\, 153)\; cursor: pointer\; text-decoration-line: none\; font-family: Helvetica\, Arial\, sans-serif\; font-size: 14px\; white-space: pre-wrap\; background-color: rgb(255\, 255\, 255)\;" target="_blank">https://www.facebook.com/winterland73/</a><br />\n<span style="background-color:rgb(255\, 255\, 255)\; color:rgb(29\, 33\, 41)\; font-family:helvetica\,arial\,sans-serif\; font-size:14px">BEEs </span><a href="https://l.facebook.com/l.php?u=https%3A%2F%2Fbees.band%2F%3Ffbclid%3DIwAR3jfvMQmXJ6HKtCNCUARCf7z3BaiTVoshv1AxrbSWHyErErdvKISB8JwGE&amp\;h=AT1tIBRt3SxG81FvZtBjzli9xqTGnk3Ehd_j4X2vAq4kSruzBKWH79UflTZo4UsXHvk4CJbGbBF1c5jUkXifpqJJgwYF0LOkfCQBgUWcIFUmazE7TBHlB1BQ0Th5711b8w" rel="nofollow noopener" style="color: rgb(54\, 88\, 153)\; cursor: pointer\; text-decoration-line: none\; font-family: Helvetica\, Arial\, sans-serif\; font-size: 14px\; white-space: pre-wrap\; background-color: rgb(255\, 255\, 255)\;" target="_blank">https://bees.band/</a><br />\n<span style="background-color:rgb(255\, 255\, 255)\; color:rgb(29\, 33\, 41)\; font-family:helvetica\,arial\,sans-serif\; font-size:14px">Leah Leah </span><a href="https://leahleah.bandcamp.com/?fbclid=IwAR1EnryH_60Tc3p6F-Xc4L_AUmPlbGREp7xQCmsAWnElW-Dm0S3V1G1uHq4" rel="nofollow noopener" style="color: rgb(54\, 88\, 153)\; cursor: pointer\; text-decoration-line: none\; font-family: Helvetica\, Arial\, sans-serif\; font-size: 14px\; white-space: pre-wrap\; background-color: rgb(255\, 255\, 255)\;" target="_blank">https://leahleah.bandcamp.com/</a>
LOCATION:The Renwick Mansion 901 Tremont Avenue Davenport\, IA 52803
UID:e.2843.13796
SEQUENCE:3
DTSTAMP:20260422T182754Z
URL:https://member.quadcitieschamber.com/events/details/the-crystal-ball-bees-winterland-leah-leah-13796
END:VEVENT

END:VCALENDAR
