BEGIN:VCALENDAR
VERSION:2.0
PRODID:-//ChamberMaster//Event Calendar 2.0//EN
METHOD:PUBLISH
X-PUBLISHED-TTL:P3D
REFRESH-INTERVAL:P3D
CALSCALE:GREGORIAN
BEGIN:VEVENT
DTSTART:20181011T213000Z
DTEND:20181012T013000Z
X-MICROSOFT-CDO-ALLDAYEVENT:FALSE
SUMMARY:The Current Iowa's 1 Year Celebration
DESCRIPTION:Help us celebrate an amazing 1st year at The Current Iowa in downtown Davenport. Enjoy live music by Molly Durnin\, tastings by local distributors\, meet artists Jennifer Hayes & Rob Westrich\, bid on live artwork\, enter to win raffles prizes plus champagne toast & cake with Amy & Amrit Gill.
X-ALT-DESC;FMTTYPE=text/html:Help us celebrate an amazing 1st year at The Current Iowa in downtown Davenport. Enjoy live music by Molly Durnin\, tastings by local distributors\, meet artists Jennifer Hayes &amp\; Rob Westrich\, bid on live artwork\, enter to win raffles prizes plus champagne toast &amp\; cake with Amy &amp\; Amrit Gill.
LOCATION:The Current Iowa 215 N. Main Street Davenport\, Iowa
UID:e.2843.13502
SEQUENCE:3
DTSTAMP:20260423T025955Z
URL:https://member.quadcitieschamber.com/events/details/the-current-iowa-s-1-year-celebration-13502
END:VEVENT

END:VCALENDAR
