BEGIN:VCALENDAR
VERSION:2.0
PRODID:-//ChamberMaster//Event Calendar 2.0//EN
METHOD:PUBLISH
X-PUBLISHED-TTL:P3D
REFRESH-INTERVAL:P3D
CALSCALE:GREGORIAN
BEGIN:VEVENT
DTSTART:20140626T220000Z
DTEND:20140626T223000Z
X-MICROSOFT-CDO-ALLDAYEVENT:FALSE
SUMMARY:The Democrat Lofts Grand Opening Ribbon Cutting
DESCRIPTION:The Democrat Lofts\, 411 Brady St. Davenport\, IA 52801\, will host a grand opening ribbon cutting on Thursday\, June 26th at 5:00 p.m.  http://mapq.st/1iRD7WA The Democrat Lofts offers modern\, luxury living while maintaining the historical integrity of the building.  The newly renovated Democrat Building features 21 studio\, one and two bedroom apartments – all of which provide a great environment that residents will be happy to call home.  Located in the heart of downtown Davenport\, the Democrat Lofts are in close proximity to restaurants\, theatres\, concert venues\, and museums.  For more information\, please visit www.democratlofts.com.
X-ALT-DESC;FMTTYPE=text/html:<FONT face=Calibri><P style="MARGIN: 0in 0in 0pt" class=MsoNormal></P><P style="MARGIN: 0in 0in 0pt" class=MsoNormal>The Democrat Lofts\, 411 Brady St. Davenport\, IA 52801\, will host a grand opening ribbon cutting on Thursday\, June 26<SUP>th</SUP> at 5:00 p.m.<SPAN style="mso-spacerun: yes">&nbsp\; </SPAN><A href="http://mapq.st/1iRD7WA"><FONT color=#0000ff face="Times New Roman">http://mapq.st/1iRD7WA</FONT></A><?xml:namespace prefix = o ns = "urn:schemas-microsoft-com:office:office" /><o:p></o:p></P><P style="MARGIN: 0in 0in 0pt" class=MsoNormal><o:p>&nbsp\;</o:p></P><P style="MARGIN: 0in 0in 0pt" class=MsoNormal>The Democrat Lofts offers modern\, luxury living while maintaining the historical integrity of the building.<SPAN style="mso-spacerun: yes">&nbsp\; </SPAN>The newly renovated Democrat Building features 21 studio\, one and two bedroom apartments – all of which provide a great environment that residents will be happy to call home.&nbsp\; Located in the heart of downtown Davenport\, the Democrat Lofts are in close proximity to restaurants\, theatres\, concert venues\, and museums.&nbsp\;<o:p></o:p></P><P style="MARGIN: 0in 0in 0pt" class=MsoNormal><o:p>&nbsp\;</o:p></P><P style="MARGIN: 0in 0in 0pt" class=MsoNormal>For more information\, please visit <A href="http://www.democratlofts.com"><FONT color=#0000ff face="Times New Roman">www.democratlofts.com</FONT></A>.<SPAN style="mso-spacerun: yes">&nbsp\; </SPAN><o:p></o:p></P><P></P></FONT>
LOCATION:The Democrat Lofts411 Brady St Davenport\, IA 52801
UID:e.2843.816
SEQUENCE:3
DTSTAMP:20260422T111718Z
URL:https://member.quadcitieschamber.com/events/details/the-democrat-lofts-grand-opening-ribbon-cutting-06-26-2014-816
END:VEVENT

END:VCALENDAR
