BEGIN:VCALENDAR
VERSION:2.0
PRODID:-//ChamberMaster//Event Calendar 2.0//EN
METHOD:PUBLISH
X-PUBLISHED-TTL:P3D
REFRESH-INTERVAL:P3D
CALSCALE:GREGORIAN
BEGIN:VEVENT
DTSTART:20111108T233000Z
DTEND:20111109T003000Z
X-MICROSOFT-CDO-ALLDAYEVENT:FALSE
SUMMARY:The EDGe- From Startup to Success
DESCRIPTION:The second installment from The EDGe will feature Steve Grubbs of Victory Enterprises. From Startup to Success will feature 5 important principles to consider when making a small company a successful company. Steve's presentation focuses on cutting edge techniques to help your business access larger markets\, increase profit and spend your marketing dollars wisely! The EDGe is a collaborative effort between the Quad Cities Chamber of Commerce\, SCORE\, Eastern Iowa Small Business Development Center\, Illinois Small Business Development Center and Midwest Intellectual Property Management Institute.
X-ALT-DESC;FMTTYPE=text/html:<P style="MARGIN: 0in 0in 0pt"><SPAN style="FONT-FAMILY: Verdana\, Geneva\; COLOR: #000000\; FONT-SIZE: 10pt">The&nbsp\;second installment from The EDGe will feature Steve Grubbs of Victory Enterprises. From Startup to Success will feature 5 important principles to consider&nbsp\;when making a small company a successful company. Steve's presentation&nbsp\;focuses on cutting edge techniques&nbsp\;to help your business&nbsp\;access larger markets\, increase profit and spend your&nbsp\;marketing dollars wisely!</SPAN></P><P style="MARGIN: 0in 0in 0pt"><SPAN style="FONT-FAMILY: Verdana\, Geneva\; COLOR: #000000\; FONT-SIZE: 10pt"></SPAN>&nbsp\;</P><P style="MARGIN: 0in 0in 0pt"><SPAN style="FONT-FAMILY: Verdana\, Geneva\; COLOR: #000000\; FONT-SIZE: 10pt">The EDGe is a collaborative effort between the&nbsp\;Quad Cities Chamber of Commerce\, SCORE\, Eastern Iowa Small Business Development Center\, Illinois Small Business Development Center and Midwest Intellectual Property Management Institute.</SPAN></P><DIV>&nbsp\;</DIV>
LOCATION:Stoney Creek Inn & Conference Center101 18th Street Moline\, IL 61265
UID:e.2843.297
SEQUENCE:3
DTSTAMP:20260422T111257Z
URL:https://member.quadcitieschamber.com/events/details/the-edge-from-startup-to-success-11-08-2011-297
END:VEVENT

END:VCALENDAR
