BEGIN:VCALENDAR
VERSION:2.0
PRODID:-//ChamberMaster//Event Calendar 2.0//EN
METHOD:PUBLISH
X-PUBLISHED-TTL:P3D
REFRESH-INTERVAL:P3D
CALSCALE:GREGORIAN
BEGIN:VEVENT
DTSTART:20120313T223000Z
DTEND:20120313T233000Z
X-MICROSOFT-CDO-ALLDAYEVENT:FALSE
SUMMARY:The EDGe: Workshop for Entrepreneurs - Buy Advertising/Media
DESCRIPTION:At the EDGe workshops\, fresh ideas and concrete how-to tips to grow your business are guaranteed.  Whether you're launching a new business or are ready to expand an existing one\, the EDGe provides tangible information you can use right away. The second installment from The EDGe will feature Natalie Linville-Mass of MediaLINK who will focus on buying advertising and media. During this program you will learn how to: 1.  Plan your marketing strategy2.  Set your marketing budget3.  Plan your marketing campaign4.  Buy advertising for your marketing campaign5.  Monitor your advertising campaign The EDGe is a collaborative effort between the Quad Cities Chamber of Commerce\, SCORE\, Eastern Iowa Small Business Development Center\, Illinois Small Business Development Center and Midwest Intellectual Property Management Institute.
X-ALT-DESC;FMTTYPE=text/html:<P style="MARGIN: 0in 0in 0pt"><SPAN style="FONT-FAMILY: Verdana\, Geneva\; COLOR: #000000\; FONT-SIZE: 10pt">At the EDGe workshops\, fresh ideas and concrete how-to tips to grow your business are guaranteed.&nbsp\; Whether you're launching a new business or are ready to expand an existing one\, the EDGe provides tangible information you can use right away.</SPAN></P><P style="MARGIN: 0in 0in 0pt"><SPAN style="FONT-FAMILY: Verdana\, Geneva\; COLOR: #000000\; FONT-SIZE: 10pt"></SPAN>&nbsp\;</P><P style="MARGIN: 0in 0in 0pt"><SPAN style="FONT-FAMILY: Verdana\, Geneva\; COLOR: #000000\; FONT-SIZE: 10pt">The&nbsp\;second installment from The EDGe will feature Natalie Linville-Mass of MediaLINK who will focus on buying advertising and media. During this program you will learn how to</SPAN><SPAN style="FONT-FAMILY: Verdana\, Geneva\; COLOR: #000000\; FONT-SIZE: 10pt">:</SPAN></P><P style="MARGIN: 0in 0in 0pt"><SPAN style="FONT-FAMILY: Verdana\, Geneva\; COLOR: #000000\; FONT-SIZE: 10pt"></SPAN>&nbsp\;</P><P style="MARGIN: 0in 0in 0pt"><SPAN style="FONT-FAMILY: Verdana\, Geneva\; COLOR: #000000\; FONT-SIZE: 10pt">1.&nbsp\; Plan your marketing strategy</SPAN></P><P style="MARGIN: 0in 0in 0pt"><SPAN style="FONT-FAMILY: Verdana\, Geneva\; COLOR: #000000\; FONT-SIZE: 10pt"></SPAN><SPAN style="FONT-FAMILY: Verdana\, Geneva\; COLOR: #000000\; FONT-SIZE: 10pt">2.&nbsp\; Set your marketing budget</SPAN></P><P style="MARGIN: 0in 0in 0pt"><SPAN style="FONT-FAMILY: Verdana\, Geneva\; COLOR: #000000\; FONT-SIZE: 10pt"></SPAN><SPAN style="FONT-FAMILY: Verdana\, Geneva\; COLOR: #000000\; FONT-SIZE: 10pt">3.&nbsp\; Plan your marketing campaign</SPAN></P><P style="MARGIN: 0in 0in 0pt"><SPAN style="FONT-FAMILY: Verdana\, Geneva\; COLOR: #000000\; FONT-SIZE: 10pt">4.&nbsp\; Buy advertising for your marketing campaign</SPAN></P><P style="MARGIN: 0in 0in 0pt"><SPAN style="FONT-FAMILY: Verdana\, Geneva\; COLOR: #000000\; FONT-SIZE: 10pt">5.&nbsp\; Monitor your advertising campaign</SPAN></P><P style="MARGIN: 0in 0in 0pt"><SPAN style="FONT-FAMILY: Verdana\, Geneva\; COLOR: #000000\; FONT-SIZE: 10pt"></SPAN>&nbsp\;</P><P style="MARGIN: 0in 0in 0pt"><SPAN style="FONT-FAMILY: Verdana\, Geneva\; COLOR: #000000\; FONT-SIZE: 10pt">The EDGe is a collaborative effort between the&nbsp\;Quad Cities Chamber of Commerce\, SCORE\, Eastern Iowa Small Business Development Center\, Illinois Small Business Development Center and Midwest Intellectual Property Management Institute.</SPAN></P><DIV>&nbsp\;</DIV>
LOCATION:Stoney Creek Inn & Conference Center101 18th Street Moline\, IL 61265
UID:e.2843.318
SEQUENCE:3
DTSTAMP:20260422T080925Z
URL:https://member.quadcitieschamber.com/events/details/the-edge-workshop-for-entrepreneurs-buy-advertising-media-03-13-2012-318
END:VEVENT

END:VCALENDAR
