BEGIN:VCALENDAR
VERSION:2.0
PRODID:-//ChamberMaster//Event Calendar 2.0//EN
METHOD:PUBLISH
X-PUBLISHED-TTL:P3D
REFRESH-INTERVAL:P3D
CALSCALE:GREGORIAN
BEGIN:VEVENT
DTSTART:20120508T223000Z
DTEND:20120508T233000Z
X-MICROSOFT-CDO-ALLDAYEVENT:FALSE
SUMMARY:The EDGe: Workshop for Entrepreneurs - Create an Effective Marketing Strategy
DESCRIPTION:At the EDGe workshops\, fresh ideas and concrete how-to tips to grow your business are guaranteed.  Whether you're launching a new business or are ready to expand an existing one\, the EDGe provides tangible information you can use right away. The fourth installment from The EDGe will feature AJ Perisho\, of Better Business Growth Faster. During this program you will learn: 1.  How your customer's create your marketing strategy2.  How to discover your core difference3.  The 4 keys - know when your marketing strategy is on track The EDGe is a collaborative effort between the Quad Cities Chamber of Commerce\, SCORE\, Eastern Iowa Small Business Development Center\, Illinois Small Business Development Center and Midwest Intellectual Property Management Institute. Click here to see who has already registered for this event!
X-ALT-DESC;FMTTYPE=text/html:<SPAN style="FONT-FAMILY: Verdana\, Geneva\; COLOR: #000000\; FONT-SIZE: 10pt"><SPAN style="FONT-FAMILY: Verdana\, Geneva\; COLOR: #000000\; FONT-SIZE: 10pt"><P style="MARGIN: 0in 0in 0pt" class=MsoNormal><SPAN style="FONT-FAMILY: 'Arial'\,'sans-serif'\; COLOR: black\; FONT-SIZE: 10pt\; mso-fareast-font-family: 'Times New Roman'">At the EDGe workshops\, fresh ideas and concrete how-to tips to grow your business are guaranteed.&nbsp\; Whether you're launching a new business or are ready to expand an existing one\, the EDGe provides tangible information you can use right away.<?xml:namespace prefix = o ns = "urn:schemas-microsoft-com:office:office" /><o:p></o:p></SPAN></P><P style="MARGIN: 0in 0in 0pt" class=MsoNormal><SPAN style="FONT-FAMILY: 'Arial'\,'sans-serif'\; FONT-SIZE: 10pt\; mso-fareast-font-family: 'Times New Roman'">&nbsp\;<o:p></o:p></SPAN></P><P style="MARGIN: 0in 0in 0pt" class=MsoNormal><SPAN style="FONT-FAMILY: 'Arial'\,'sans-serif'\; COLOR: black\; FONT-SIZE: 10pt\; mso-fareast-font-family: 'Times New Roman'">The&nbsp\;fourth installment from The EDGe will feature AJ Perisho\, of Better Business Growth Faster. During this program you will learn:</SPAN><SPAN style="FONT-FAMILY: 'Arial'\,'sans-serif'\; FONT-SIZE: 10pt\; mso-fareast-font-family: 'Times New Roman'"><o:p></o:p></SPAN></P><P style="MARGIN: 0in 0in 0pt" class=MsoNormal><SPAN style="FONT-FAMILY: 'Arial'\,'sans-serif'\; FONT-SIZE: 10pt\; mso-fareast-font-family: 'Times New Roman'">&nbsp\;<o:p></o:p></SPAN></P><P style="MARGIN: 0in 0in 0pt" class=MsoNormal><SPAN style="FONT-FAMILY: 'Arial'\,'sans-serif'\; COLOR: black\; FONT-SIZE: 10pt\; mso-fareast-font-family: 'Times New Roman'">1.&nbsp\; How your customer's create your marketing strategy</SPAN><SPAN style="FONT-FAMILY: 'Arial'\,'sans-serif'\; FONT-SIZE: 10pt\; mso-fareast-font-family: 'Times New Roman'"><o:p></o:p></SPAN></P><P style="MARGIN: 0in 0in 0pt" class=MsoNormal><SPAN style="FONT-FAMILY: 'Arial'\,'sans-serif'\; COLOR: black\; FONT-SIZE: 10pt\; mso-fareast-font-family: 'Times New Roman'">2.&nbsp\; How to discover your core difference</SPAN><SPAN style="FONT-FAMILY: 'Arial'\,'sans-serif'\; FONT-SIZE: 10pt\; mso-fareast-font-family: 'Times New Roman'"><o:p></o:p></SPAN></P><P style="MARGIN: 0in 0in 0pt" class=MsoNormal><SPAN style="FONT-FAMILY: 'Arial'\,'sans-serif'\; COLOR: black\; FONT-SIZE: 10pt\; mso-fareast-font-family: 'Times New Roman'">3.&nbsp\; The 4 keys - know when your marketing strategy is on track</SPAN><SPAN style="FONT-FAMILY: 'Arial'\,'sans-serif'\; FONT-SIZE: 10pt\; mso-fareast-font-family: 'Times New Roman'"><o:p></o:p></SPAN></P><P style="MARGIN: 0in 0in 0pt" class=MsoNormal><SPAN style="FONT-FAMILY: 'Arial'\,'sans-serif'\; FONT-SIZE: 10pt\; mso-fareast-font-family: 'Times New Roman'">&nbsp\;<o:p></o:p></SPAN></P><P style="MARGIN: 0in 0in 0pt" class=MsoNormal><SPAN style="FONT-FAMILY: 'Arial'\,'sans-serif'\; COLOR: black\; FONT-SIZE: 10pt\; mso-fareast-font-family: 'Times New Roman'">The EDGe is a collaborative effort between the&nbsp\;Quad Cities Chamber of Commerce\, SCORE\, Eastern Iowa Small Business Development Center\, Illinois Small Business Development Center and Midwest Intellectual Property Management Institute.</SPAN><SPAN style="FONT-FAMILY: 'Arial'\,'sans-serif'\; FONT-SIZE: 10pt\; mso-fareast-font-family: 'Times New Roman'"><o:p></o:p></SPAN></P><P style="TEXT-ALIGN: center\; MARGIN: 0in 0in 0pt" class=MsoNormal align=center><SPAN style="FONT-FAMILY: 'Arial'\,'sans-serif'\; FONT-SIZE: 10pt\; mso-fareast-font-family: 'Times New Roman'"><o:p>&nbsp\;</o:p></SPAN></P><P><SPAN style="FONT-FAMILY: 'Arial'\,'sans-serif'\; COLOR: black\; FONT-SIZE: 10pt"><A style="COLOR: blue\; TEXT-DECORATION: underline" title="" dataFld=0:0 href="http://events.quadcitieschamber.com/sbaweb/common/attendees.asp?eventcode=EDGE 05/12" target=_self>Click here</A> to see who has already registered for this event!</SPAN><SPAN style="FONT-FAMILY: 'Arial'\,'sans-serif'\; FONT-SIZE: 10pt"> <o:p></o:p></SPAN></P><P style="MARGIN: 0in 0in 0pt"></SPAN></SPAN></P>
LOCATION:Radisson QC Plaza Hotel111 E. 2nd St. Davenport\, IA 52801
UID:e.2843.320
SEQUENCE:3
DTSTAMP:20260422T013158Z
URL:https://member.quadcitieschamber.com/events/details/the-edge-workshop-for-entrepreneurs-create-an-effective-marketing-strategy-05-08-2012-320
END:VEVENT

END:VCALENDAR
