BEGIN:VCALENDAR
VERSION:2.0
PRODID:-//ChamberMaster//Event Calendar 2.0//EN
METHOD:PUBLISH
X-PUBLISHED-TTL:P3D
REFRESH-INTERVAL:P3D
CALSCALE:GREGORIAN
BEGIN:VEVENT
DTSTART:20120110T233000Z
DTEND:20120111T003000Z
X-MICROSOFT-CDO-ALLDAYEVENT:FALSE
SUMMARY:The EDGe: Workshop for Entrepreneurs - Innovate Quickly\, Fail Fast
DESCRIPTION:At the EDGe workshops\, fresh ideas and concrete how-to tips to grow your business are guaranteed.  Whether you're launching a new business or are ready to expand an existing one\, the EDGe provides tangible information you can use right away. The first installment from The EDGe will feature Steve Grubbs of Victory Enterprises. During this program you will learn how to: 1.  Recognize market opportunities2.  Understand how to innovate quickly and fail fast3.  Understand how to use technological advancements to your advantage in a local or national market  The EDGe is a collaborative effort between the Quad Cities Chamber of Commerce\, SCORE\, Eastern Iowa Small Business Development Center\, Illinois Small Business Development Center and Midwest Intellectual Property Management Institute.
X-ALT-DESC;FMTTYPE=text/html:<SPAN style="FONT-FAMILY: Verdana\, Geneva\; COLOR: #000000\; FONT-SIZE: 10pt"><P style="MARGIN: 0in 0in 0pt"><SPAN style="FONT-FAMILY: Verdana\, Geneva\; COLOR: #000000\; FONT-SIZE: 10pt">At the EDGe workshops\, fresh ideas and concrete how-to tips to grow your business are guaranteed.&nbsp\; Whether you're launching a new business or are ready to expand an existing one\, the EDGe provides tangible information you can use right away.</SPAN></P></SPAN><P style="MARGIN: 0in 0in 0pt"><SPAN style="FONT-FAMILY: Verdana\, Geneva\; COLOR: #000000\; FONT-SIZE: 10pt"></SPAN>&nbsp\;</P><P style="MARGIN: 0in 0in 0pt"><SPAN style="FONT-FAMILY: Verdana\, Geneva\; COLOR: #000000\; FONT-SIZE: 10pt">The&nbsp\;first installment from The EDGe will feature Steve Grubbs of Victory Enterprises. During this program you will learn how to</SPAN><SPAN style="FONT-FAMILY: Verdana\, Geneva\; COLOR: #000000\; FONT-SIZE: 10pt">:</SPAN></P><P style="MARGIN: 0in 0in 0pt"><SPAN style="FONT-FAMILY: Verdana\, Geneva\; COLOR: #000000\; FONT-SIZE: 10pt"></SPAN>&nbsp\;</P><P style="MARGIN: 0in 0in 0pt"><SPAN style="FONT-FAMILY: Verdana\, Geneva\; COLOR: #000000\; FONT-SIZE: 10pt">1.&nbsp\; Recognize market opportunities</SPAN></P><P style="MARGIN: 0in 0in 0pt"><SPAN style="FONT-FAMILY: Verdana\, Geneva\; COLOR: #000000\; FONT-SIZE: 10pt">2.&nbsp\; Understand how to innovate quickly and fail fast</SPAN></P><P style="MARGIN: 0in 0in 0pt"><SPAN style="FONT-FAMILY: Verdana\, Geneva\; COLOR: #000000\; FONT-SIZE: 10pt">3.&nbsp\; Understand how to use technological advancements to your advantage in a local or national market</SPAN></P><P style="MARGIN: 0in 0in 0pt"><SPAN style="FONT-FAMILY: Verdana\, Geneva\; COLOR: #000000\; FONT-SIZE: 10pt"></SPAN>&nbsp\;</P><P style="MARGIN: 0in 0in 0pt"><SPAN style="FONT-FAMILY: Verdana\, Geneva\; COLOR: #000000\; FONT-SIZE: 10pt"></SPAN>&nbsp\;</P><P style="MARGIN: 0in 0in 0pt"><SPAN style="FONT-FAMILY: Verdana\, Geneva\; COLOR: #000000\; FONT-SIZE: 10pt">The EDGe is a collaborative effort between the&nbsp\;Quad Cities Chamber of Commerce\, SCORE\, Eastern Iowa Small Business Development Center\, Illinois Small Business Development Center and Midwest Intellectual Property Management Institute.</SPAN></P><DIV>&nbsp\;</DIV>
LOCATION:Stoney Creek Inn & Conference Center101 18th Street Moline\, IL 61265
UID:e.2843.317
SEQUENCE:3
DTSTAMP:20260422T093208Z
URL:https://member.quadcitieschamber.com/events/details/the-edge-workshop-for-entrepreneurs-innovate-quickly-fail-fast-01-10-2012-317
END:VEVENT

END:VCALENDAR
