BEGIN:VCALENDAR
VERSION:2.0
PRODID:-//ChamberMaster//Event Calendar 2.0//EN
METHOD:PUBLISH
X-PUBLISHED-TTL:P3D
REFRESH-INTERVAL:P3D
CALSCALE:GREGORIAN
BEGIN:VEVENT
DTSTART:20120410T223000Z
DTEND:20120410T233000Z
X-MICROSOFT-CDO-ALLDAYEVENT:FALSE
SUMMARY:The EDGe: Workshop for Entrepreneurs - Lean Manufacturing
DESCRIPTION:At the EDGe workshops\, fresh ideas and concrete how-to tips to grow your business are guaranteed.  Whether you're launching a new business or are ready to expand an existing one\, the EDGe provides tangible information you can use right away. The third installment from The EDGe will feature Glen Pullin of the IP Institute. During this program you will learn how to: 1.  Identify the building blocks to Lean2.  How to apply them in your manufacturing business  The EDGe is a collaborative effort between the Quad Cities Chamber of Commerce\, SCORE\, Eastern Iowa Small Business Development Center\, Illinois Small Business Development Center and Midwest Intellectual Property Management Institute.
X-ALT-DESC;FMTTYPE=text/html:<DIV><P style="MARGIN: 0in 0in 0pt" class=MsoNormal><SPAN style="FONT-FAMILY: 'Arial'\,'sans-serif'\; COLOR: black\; FONT-SIZE: 10pt\; mso-fareast-font-family: 'Times New Roman'">At the EDGe workshops\, fresh ideas and concrete how-to tips to grow your business are guaranteed.&nbsp\; Whether you're launching a new business or are ready to expand an existing one\, the EDGe provides tangible information you can use right away.<?xml:namespace prefix = o ns = "urn:schemas-microsoft-com:office:office" /><o:p></o:p></SPAN></P><P style="MARGIN: 0in 0in 0pt" class=MsoNormal><SPAN style="FONT-FAMILY: 'Arial'\,'sans-serif'\; FONT-SIZE: 10pt\; mso-fareast-font-family: 'Times New Roman'">&nbsp\;<o:p></o:p></SPAN></P><P style="MARGIN: 0in 0in 0pt" class=MsoNormal><SPAN style="FONT-FAMILY: 'Arial'\,'sans-serif'\; COLOR: black\; FONT-SIZE: 10pt\; mso-fareast-font-family: 'Times New Roman'">The&nbsp\;third installment from The EDGe will feature Glen Pullin of the IP Institute. During this program you will learn how to:</SPAN><SPAN style="FONT-FAMILY: 'Arial'\,'sans-serif'\; FONT-SIZE: 10pt\; mso-fareast-font-family: 'Times New Roman'"><o:p></o:p></SPAN></P><P style="MARGIN: 0in 0in 0pt" class=MsoNormal><SPAN style="FONT-FAMILY: 'Arial'\,'sans-serif'\; FONT-SIZE: 10pt\; mso-fareast-font-family: 'Times New Roman'">&nbsp\;<o:p></o:p></SPAN></P><P style="MARGIN: 0in 0in 0pt" class=MsoNormal><SPAN style="FONT-FAMILY: 'Arial'\,'sans-serif'\; COLOR: black\; FONT-SIZE: 10pt\; mso-fareast-font-family: 'Times New Roman'">1.&nbsp\; Identify the building blocks to Lean</SPAN><SPAN style="FONT-FAMILY: 'Arial'\,'sans-serif'\; FONT-SIZE: 10pt\; mso-fareast-font-family: 'Times New Roman'"><o:p></o:p></SPAN></P><P style="MARGIN: 0in 0in 0pt" class=MsoNormal><SPAN style="FONT-FAMILY: 'Arial'\,'sans-serif'\; COLOR: black\; FONT-SIZE: 10pt\; mso-fareast-font-family: 'Times New Roman'">2.&nbsp\; How to apply them in your manufacturing business</SPAN><SPAN style="FONT-FAMILY: 'Arial'\,'sans-serif'\; FONT-SIZE: 10pt\; mso-fareast-font-family: 'Times New Roman'"><o:p></o:p></SPAN></P><P style="MARGIN: 0in 0in 0pt" class=MsoNormal><SPAN style="FONT-FAMILY: 'Arial'\,'sans-serif'\; FONT-SIZE: 10pt\; mso-fareast-font-family: 'Times New Roman'">&nbsp\;<o:p></o:p></SPAN></P><P style="MARGIN: 0in 0in 0pt" class=MsoNormal><SPAN style="FONT-FAMILY: 'Arial'\,'sans-serif'\; FONT-SIZE: 10pt\; mso-fareast-font-family: 'Times New Roman'">&nbsp\;<o:p></o:p></SPAN></P><P style="MARGIN: 0in 0in 0pt" class=MsoNormal><SPAN style="FONT-FAMILY: 'Arial'\,'sans-serif'\; COLOR: black\; FONT-SIZE: 10pt\; mso-fareast-font-family: 'Times New Roman'">The EDGe is a collaborative effort between the&nbsp\;Quad Cities Chamber of Commerce\, SCORE\, Eastern Iowa Small Business Development Center\, Illinois Small Business Development Center and Midwest Intellectual Property Management Institute.</SPAN><SPAN style="FONT-FAMILY: 'Arial'\,'sans-serif'\; FONT-SIZE: 10pt\; mso-fareast-font-family: 'Times New Roman'"><o:p></o:p></SPAN></P><P style="MARGIN: 0in 0in 0pt" class=MsoNormal><SPAN style="FONT-FAMILY: 'Arial'\,'sans-serif'\; FONT-SIZE: 10pt\; mso-fareast-font-family: 'Times New Roman'"><o:p>&nbsp\;</o:p></SPAN></P><P style="TEXT-ALIGN: center\; MARGIN: 0in 0in 0pt" class=MsoNormal align=center><SPAN style="FONT-FAMILY: 'Arial'\,'sans-serif'\; FONT-SIZE: 10pt\; mso-fareast-font-family: 'Times New Roman'"><o:p>&nbsp\;</o:p></SPAN></P></DIV>
LOCATION:Stoney Creek Inn & Conference Center101 18th Street Moline\, IL 61265
UID:e.2843.319
SEQUENCE:3
DTSTAMP:20260422T044354Z
URL:https://member.quadcitieschamber.com/events/details/the-edge-workshop-for-entrepreneurs-lean-manufacturing-04-10-2012-319
END:VEVENT

END:VCALENDAR
