BEGIN:VCALENDAR
VERSION:2.0
PRODID:-//ChamberMaster//Event Calendar 2.0//EN
METHOD:PUBLISH
X-PUBLISHED-TTL:P3D
REFRESH-INTERVAL:P3D
CALSCALE:GREGORIAN
BEGIN:VEVENT
DTSTART:20120612T223000Z
DTEND:20120612T233000Z
X-MICROSOFT-CDO-ALLDAYEVENT:FALSE
SUMMARY:The EDGe: Workshop for Entrepreneurs - Mistake Proof Your Business
DESCRIPTION:At the EDGe workshops\, fresh ideas and concrete how-to tips to grow your business are guaranteed.  Whether you're launching a new business or are ready to expand an existing one\, the EDGe provides tangible information you can use right away. The fifth installment from The EDGe will feature Karl Bultsma of the IP Institute. During this program you will learn how to: 1.  Define source inspection2.  Identify the red flags that commonly provoke errors3.  Define the three levels of mistake proofing4.  Explain the seven steps to identify a mistake proofing method5.  List where mistake proofing works well The EDGe is a collaborative effort between the Quad Cities Chamber of Commerce\, SCORE\, Eastern Iowa Small Business Development Center\, Illinois Small Business Development Center and Midwest Intellectual Property Management Institute. Click here to see who has already registered for this event!
X-ALT-DESC;FMTTYPE=text/html:<DIV><P style="MARGIN: 0in 0in 0pt" class=MsoNormal><SPAN style="FONT-FAMILY: 'Arial'\,'sans-serif'\; COLOR: black\; FONT-SIZE: 10pt\; mso-fareast-font-family: 'Times New Roman'">At the EDGe workshops\, fresh ideas and concrete how-to tips to grow your business are guaranteed.&nbsp\; Whether you're launching a new business or are ready to expand an existing one\, the EDGe provides tangible information you can use right away.<?xml:namespace prefix = o ns = "urn:schemas-microsoft-com:office:office" /><o:p></o:p></SPAN></P><P style="MARGIN: 0in 0in 0pt" class=MsoNormal><SPAN style="FONT-FAMILY: 'Arial'\,'sans-serif'\; FONT-SIZE: 10pt\; mso-fareast-font-family: 'Times New Roman'">&nbsp\;<o:p></o:p></SPAN></P><P style="MARGIN: 0in 0in 0pt" class=MsoNormal><SPAN style="FONT-FAMILY: 'Arial'\,'sans-serif'\; COLOR: black\; FONT-SIZE: 10pt\; mso-fareast-font-family: 'Times New Roman'">The&nbsp\;fifth installment from The EDGe will feature Karl Bultsma of the IP Institute. During this program you will learn how to:</SPAN><SPAN style="FONT-FAMILY: 'Arial'\,'sans-serif'\; FONT-SIZE: 10pt\; mso-fareast-font-family: 'Times New Roman'"><o:p></o:p></SPAN></P><P style="MARGIN: 0in 0in 0pt" class=MsoNormal><SPAN style="FONT-FAMILY: 'Arial'\,'sans-serif'\; FONT-SIZE: 10pt\; mso-fareast-font-family: 'Times New Roman'">&nbsp\;<o:p></o:p></SPAN></P><P style="MARGIN: 0in 0in 0pt" class=MsoNormal><SPAN style="FONT-FAMILY: 'Arial'\,'sans-serif'\; COLOR: black\; FONT-SIZE: 10pt\; mso-fareast-font-family: 'Times New Roman'">1.&nbsp\; Define source inspection</SPAN><SPAN style="FONT-FAMILY: 'Arial'\,'sans-serif'\; FONT-SIZE: 10pt\; mso-fareast-font-family: 'Times New Roman'"><o:p></o:p></SPAN></P><P style="MARGIN: 0in 0in 0pt" class=MsoNormal><SPAN style="FONT-FAMILY: 'Arial'\,'sans-serif'\; COLOR: black\; FONT-SIZE: 10pt\; mso-fareast-font-family: 'Times New Roman'">2.&nbsp\; Identify the red flags that commonly provoke errors</SPAN><SPAN style="FONT-FAMILY: 'Arial'\,'sans-serif'\; FONT-SIZE: 10pt\; mso-fareast-font-family: 'Times New Roman'"><o:p></o:p></SPAN></P><P style="MARGIN: 0in 0in 0pt" class=MsoNormal><SPAN style="FONT-FAMILY: 'Arial'\,'sans-serif'\; COLOR: black\; FONT-SIZE: 10pt\; mso-fareast-font-family: 'Times New Roman'">3.&nbsp\; Define the three levels of mistake proofing</SPAN><SPAN style="FONT-FAMILY: 'Arial'\,'sans-serif'\; FONT-SIZE: 10pt\; mso-fareast-font-family: 'Times New Roman'"><o:p></o:p></SPAN></P><P style="MARGIN: 0in 0in 0pt" class=MsoNormal><SPAN style="FONT-FAMILY: 'Arial'\,'sans-serif'\; COLOR: black\; FONT-SIZE: 10pt\; mso-fareast-font-family: 'Times New Roman'">4.&nbsp\; Explain the seven steps to identify a mistake proofing method</SPAN><SPAN style="FONT-FAMILY: 'Arial'\,'sans-serif'\; FONT-SIZE: 10pt\; mso-fareast-font-family: 'Times New Roman'"><o:p></o:p></SPAN></P><P style="MARGIN: 0in 0in 0pt" class=MsoNormal><SPAN style="FONT-FAMILY: 'Arial'\,'sans-serif'\; COLOR: black\; FONT-SIZE: 10pt\; mso-fareast-font-family: 'Times New Roman'">5.&nbsp\; List where mistake proofing works well</SPAN><SPAN style="FONT-FAMILY: 'Arial'\,'sans-serif'\; FONT-SIZE: 10pt\; mso-fareast-font-family: 'Times New Roman'"><o:p></o:p></SPAN></P><P style="MARGIN: 0in 0in 0pt" class=MsoNormal><SPAN style="FONT-FAMILY: 'Arial'\,'sans-serif'\; FONT-SIZE: 10pt\; mso-fareast-font-family: 'Times New Roman'">&nbsp\;<o:p></o:p></SPAN></P><P style="MARGIN: 0in 0in 0pt" class=MsoNormal><SPAN style="FONT-FAMILY: 'Arial'\,'sans-serif'\; COLOR: black\; FONT-SIZE: 10pt\; mso-fareast-font-family: 'Times New Roman'">The EDGe is a collaborative effort between the&nbsp\;Quad Cities Chamber of Commerce\, SCORE\, Eastern Iowa Small Business Development Center\, Illinois Small Business Development Center and Midwest Intellectual Property Management Institute.</SPAN><SPAN style="FONT-FAMILY: 'Arial'\,'sans-serif'\; FONT-SIZE: 10pt\; mso-fareast-font-family: 'Times New Roman'"><o:p></o:p></SPAN></P><P style="TEXT-ALIGN: center\; MARGIN: 0in 0in 0pt" class=MsoNormal align=center><SPAN style="FONT-FAMILY: 'Arial'\,'sans-serif'\; FONT-SIZE: 10pt\; mso-fareast-font-family: 'Times New Roman'"><o:p>&nbsp\;</o:p></SPAN></P><P><SPAN style="FONT-FAMILY: 'Arial'\,'sans-serif'\; COLOR: black\; FONT-SIZE: 10pt"><A style="COLOR: blue\; TEXT-DECORATION: underline" title="" dataFld=0:0 href="http://events.quadcitieschamber.com/sbaweb/common/attendees.asp?eventcode=EDGE 06/12" target=_self>Click here</A> to see who has already registered for this event!</SPAN><SPAN style="FONT-FAMILY: 'Arial'\,'sans-serif'\; FONT-SIZE: 10pt"> <o:p></o:p></SPAN></P></DIV>
LOCATION:Radisson QC Plaza Hotel111 E. 2nd St. Davenport\, IA 52801
UID:e.2843.321
SEQUENCE:3
DTSTAMP:20260422T013333Z
URL:https://member.quadcitieschamber.com/events/details/the-edge-workshop-for-entrepreneurs-mistake-proof-your-business-06-12-2012-321
END:VEVENT

END:VCALENDAR
