BEGIN:VCALENDAR
VERSION:2.0
PRODID:-//ChamberMaster//Event Calendar 2.0//EN
METHOD:PUBLISH
X-PUBLISHED-TTL:P3D
REFRESH-INTERVAL:P3D
CALSCALE:GREGORIAN
BEGIN:VEVENT
DTSTART:20180221T003000Z
DTEND:20180221T011500Z
X-MICROSOFT-CDO-ALLDAYEVENT:FALSE
SUMMARY:The Heart Brain
DESCRIPTION:When people think of the heart and the brain\, they think of two completely different organs with completely different functions. But they actually have more of an impact on not only each other\, but our overall health and well-being than we originally might think! Join us at our Health Talk where we will be discussing how living a holistic lifestyle can create healthier connections between the brain and the heart. \n\nAll events are free and open to the public. All new guests qualify for a discounted initial consultation.
X-ALT-DESC;FMTTYPE=text/html:<p>When people think of the heart and the brain\, they think of two completely different organs with completely different functions. But they actually have more of an impact on not only each other\, but our overall health and well-being than we originally might think! Join us at our Health Talk where we will be discussing how living a holistic lifestyle can create healthier connections between the brain and the heart.&nbsp\;</p>\n\n<p>All events are free and open to the public. All new guests qualify for a discounted initial consultation.&nbsp\;</p>\n
LOCATION:NutritionWorks Holistic Health 2255 Kimberly Road Bettendorf\, IA 52722
UID:e.2843.10009
SEQUENCE:3
DTSTAMP:20260423T153345Z
URL:https://member.quadcitieschamber.com/events/details/the-heart-brain-10009
END:VEVENT

END:VCALENDAR
