BEGIN:VCALENDAR
VERSION:2.0
PRODID:-//ChamberMaster//Event Calendar 2.0//EN
METHOD:PUBLISH
X-PUBLISHED-TTL:P3D
REFRESH-INTERVAL:P3D
CALSCALE:GREGORIAN
BEGIN:VEVENT
DTSTART:20121214T180000Z
DTEND:20121214T210000Z
X-MICROSOFT-CDO-ALLDAYEVENT:FALSE
SUMMARY:The Hobbit: An Unexpected Journey Midnight Premiere
DESCRIPTION:Tickets are on sale now for the midnight premiere of Peter Jackson's The Hobbit: An Unexpected Journey. See the movie as it was meant to be seen\, on the GIANT Screen!
X-ALT-DESC;FMTTYPE=text/html:Tickets are on sale now for the midnight premiere of Peter Jackson's The Hobbit: An Unexpected Journey. See the movie as it was meant to be seen\, on the GIANT Screen!
LOCATION:Putnam Museum and Giant Screen Theater1717 West 12th St. Davenport\, IA 52804
UID:e.2843.91
SEQUENCE:3
DTSTAMP:20260421T134633Z
URL:https://member.quadcitieschamber.com/events/details/the-hobbit-an-unexpected-journey-midnight-premiere-12-14-2012-91
END:VEVENT

END:VCALENDAR
