BEGIN:VCALENDAR
VERSION:2.0
PRODID:-//ChamberMaster//Event Calendar 2.0//EN
METHOD:PUBLISH
X-PUBLISHED-TTL:P3D
REFRESH-INTERVAL:P3D
CALSCALE:GREGORIAN
BEGIN:VEVENT
DTSTART:20131108T220000Z
DTEND:20131108T223000Z
X-MICROSOFT-CDO-ALLDAYEVENT:FALSE
SUMMARY:The Hungry Hobo Grand Opening
DESCRIPTION:The Hungry Hobo\, located at 178 S. 4th Ave. Eldridge\, IA 52748\, will celebrate the grand opening of their new location with a ribbon cutting on Friday\, November 8th at 4:00pm. The new location will be open Monday through Saturday from 10:00am to 9:00pm\, and Sunday from 11:00am to 8:00pm.  “While we’re in the process of trying to expand our concept in Eastern Iowa\, we also wanted to get some experience with providing a drive thru service” said Pryce T. Boeye\, President and CEO of Hungry Hobo.  “We were able to find a great complex in the heart of Eldridge that should serve both our customers and employees very well.  If the first day of business is any indication of what to expect\, it could end up being a surprisingly strong store.” The Hungry Hobo is a chain of Sandwich shops that was created in 1973 by Jim Gende\, Ray Pearson\, Joe Gende\, and Tom Spero.  The chain is currently celebrating its 40th anniversary with a series of promotions throughout 2013.  The concept specializes in sliced-to-order and grilled sandwiches\, baked potatoes\, chef-prepared soups\, shredded-lettuce salads and desserts that are baked daily in the Hobo Bakery.   They have 13 Convenient Quad City locations and have made their everyday menu available for delivery through www.good2goqc.com.  They also recently launched a smart phone app and mobile rewards program\, and have been voted Best Deli\, Best Deli Sandwiches and Most Distinct Quad Cities Fast Food.  For more information\, visit www.hungryhobo.com and www.facebook.com/hungryhobo.   Thank you\,
X-ALT-DESC;FMTTYPE=text/html:<FONT face=Calibri><P style="MARGIN: 0in 0in 0pt" class=MsoNormal>The Hungry Hobo\, located at 178 S. 4<SUP>th</SUP> Ave. Eldridge\, IA 52748\, will celebrate the grand opening of their new location with a ribbon cutting on <B style="mso-bidi-font-weight: normal">Friday\, November 8<SUP>th</SUP> at 4:00pm</B>. The new location will be open Monday through Saturday from 10:00am to 9:00pm\, and Sunday from 11:00am to 8:00pm. <?xml:namespace prefix = o ns = "urn:schemas-microsoft-com:office:office" /><o:p></o:p></P><P style="MARGIN: 0in 0in 0pt" class=MsoNormal><o:p>&nbsp\;</o:p></P><P style="MARGIN: 0in 0in 0pt" class=MsoNormal>“While we’re in the process of trying to expand our concept in Eastern Iowa\, we also wanted to get some experience with providing a drive thru service” said Pryce T. Boeye\, President and CEO of Hungry Hobo.<SPAN style="mso-spacerun: yes">&nbsp\; </SPAN>“We were able to find a great complex in the heart of Eldridge that should serve both our customers and employees very well.<SPAN style="mso-spacerun: yes">&nbsp\; </SPAN>If the first day of business is any indication of what to expect\, it could end up being a surprisingly strong store.”<o:p></o:p></P><P style="MARGIN: 0in 0in 0pt" class=MsoNormal><o:p>&nbsp\;</o:p></P><P style="MARGIN: 0in 0in 0pt" class=MsoNormal>The Hungry Hobo is a chain of Sandwich shops that was created in 1973 by Jim Gende\, Ray Pearson\, Joe Gende\, and Tom Spero.<SPAN style="mso-spacerun: yes">&nbsp\; </SPAN>The chain is currently celebrating its 40<SUP>th</SUP> anniversary with a series of promotions throughout 2013.<SPAN style="mso-spacerun: yes">&nbsp\; </SPAN>The concept specializes in sliced-to-order and grilled sandwiches\, baked potatoes\, chef-prepared soups\, shredded-lettuce salads and desserts that are baked daily in the Hobo Bakery.<SPAN style="mso-spacerun: yes">&nbsp\; </SPAN><o:p></o:p></P><P style="MARGIN: 0in 0in 0pt" class=MsoNormal><o:p>&nbsp\;</o:p></P><P style="MARGIN: 0in 0in 0pt" class=MsoNormal>They have 13 Convenient Quad City locations and have made their everyday menu available for delivery through <A href="http://www.good2goqc.com"><FONT face="Times New Roman">www.good2goqc.com</FONT></A>.<SPAN style="mso-spacerun: yes">&nbsp\; </SPAN>They also recently launched a smart phone app and mobile rewards program\, and have been voted Best Deli\, Best Deli Sandwiches and Most Distinct Quad Cities Fast Food.<SPAN style="mso-spacerun: yes">&nbsp\; </SPAN>For more information\, visit <A href="http://www.hungryhobo.com"><FONT face="Times New Roman">www.hungryhobo.com</FONT></A> and <A href="http://www.facebook.com/hungryhobo"><FONT face="Times New Roman">www.facebook.com/hungryhobo</FONT></A>.<SPAN style="mso-spacerun: yes">&nbsp\; </SPAN><o:p></o:p></P><P style="MARGIN: 0in 0in 0pt" class=MsoNormal><o:p>&nbsp\;</o:p></P><P style="MARGIN: 0in 0in 0pt" class=MsoNormal>Thank you\,<o:p></o:p></P><P></FONT>&nbsp\;</P>
LOCATION:Hungry Hobo178 South 4th Ave. Eldridge\, IA 52748
UID:e.2843.740
SEQUENCE:3
DTSTAMP:20260421T235218Z
URL:https://member.quadcitieschamber.com/events/details/the-hungry-hobo-grand-opening-11-08-2013-740
END:VEVENT

END:VCALENDAR
