BEGIN:VCALENDAR
VERSION:2.0
PRODID:-//ChamberMaster//Event Calendar 2.0//EN
METHOD:PUBLISH
X-PUBLISHED-TTL:P3D
REFRESH-INTERVAL:P3D
CALSCALE:GREGORIAN
BEGIN:VEVENT
DTSTART:20121130T220000Z
DTEND:20121130T223000Z
X-MICROSOFT-CDO-ALLDAYEVENT:FALSE
SUMMARY:The Hungry Hobo Re-Grand Opening and Ribbon Cutting
DESCRIPTION:Please help The Hungry Hobo celebrate the re-grand opening of their Rock Island store with a ribbon cutting on Friday\, November 30th at 4:00pm.  Located at 2532 18th Avenue in Rock Island For more information\, please visit www.hungryhobo.com and www.facebook.com/hungryhobo.
X-ALT-DESC;FMTTYPE=text/html:<P style="MARGIN: 0in 0in 0pt" class=MsoNormal><FONT face=Calibri>Please help The Hungry Hobo celebrate the re-grand opening of their Rock Island store with a ribbon cutting on Friday\, November 30<SUP>th</SUP> at 4:00pm.<SPAN style="mso-spacerun: yes">&nbsp\; </SPAN>Located at 2532 18<SUP>th</SUP> Avenue in Rock Island</FONT></P><P style="MARGIN: 0in 0in 0pt" class=MsoNormal><?xml:namespace prefix = o ns = "urn:schemas-microsoft-com:office:office" /><o:p><FONT face=Calibri>&nbsp\;</FONT></o:p></P><P style="MARGIN: 0in 0in 0pt" class=MsoNormal><FONT face=Calibri>For more information\, please visit </FONT><A href="http://www.hungryhobo.com"><FONT face="Times New Roman">www.hungryhobo.com</FONT></A><FONT face=Calibri> and </FONT><A href="http://www.facebook.com/hungryhobo"><FONT face="Times New Roman">www.facebook.com/hungryhobo</FONT></A>.</P><DIV>&nbsp\;</DIV>
LOCATION:Hungry Hobo2532 18th Avenue Rock Island\, IL 61201
UID:e.2843.477
SEQUENCE:3
DTSTAMP:20260421T170645Z
URL:https://member.quadcitieschamber.com/events/details/the-hungry-hobo-re-grand-opening-and-ribbon-cutting-11-30-2012-477
END:VEVENT

END:VCALENDAR
