BEGIN:VCALENDAR
VERSION:2.0
PRODID:-//ChamberMaster//Event Calendar 2.0//EN
METHOD:PUBLISH
X-PUBLISHED-TTL:P3D
REFRESH-INTERVAL:P3D
CALSCALE:GREGORIAN
BEGIN:VEVENT
DTSTART:20190507T123000Z
DTEND:20190507T220000Z
X-MICROSOFT-CDO-ALLDAYEVENT:FALSE
SUMMARY:The Iowa Performance Excellence (iPEX) Conference
DESCRIPTION:SAVE THE DATE  May 7th and 8th  It is a fact that organizations of all types and sizes are looking for ways to grow\, improve and achieve their mission and goals.  As the State of Iowa Administrators of the Malcolm Baldrige Award\, the Iowa Quality Center hosts an annual conference\, newly branded as\, The Iowa Performance Excellence (iPEX) Conference.  This event is the only conference in Iowa dedicated to Performance Excellence. Who can argue with the goal of excellent performance?   Attendees are key decision makers and influencers in all industries such as healthcare\, banking\, technology\, manufacturing\, education\, and manufacturing.\n\nThe iPEX Conference also includes a celebration to recognize Iowa organizations who are on the Baldrige Performance Excellence Journey.  Our dinner celebration is focused on recognizing IRPE applicants for their dedication and high level of performance.\n\nWhy attend?\n\n	3 Pre-conference workshops featuring well-known speakers\n	20+ excellent speakers in Breakout Sessions\n	Opportunity to network with a wide variety of executives\, leaders and others who are focused on learning and growing\n\nFor more information go to https://iowaqc.org/ipex/  or Contact Deb Oliver at doliver@iowaqc.org.
X-ALT-DESC;FMTTYPE=text/html:<strong><span style="color:black"><span style="font-family:open sans"><span style="font-size:12.0pt">SAVE THE DATE &nbsp\;May 7<sup>th</sup> and 8<sup>th</sup> &nbsp\;</span></span></span></strong><span style="color:black"><span style="font-family:open sans"><span style="font-size:12.0pt">It is a fact that organizations of all types and sizes are looking for ways to grow\, improve and achieve their mission and goals.&nbsp\; As the State of Iowa Administrators of the Malcolm Baldrige Award\, the Iowa Quality Center hosts an annual conference\, newly branded as\, The Iowa Performance Excellence (iPEX) Conference.&nbsp\; This event is the only conference in Iowa dedicated to Performance Excellence.&nbsp\;<em>Who can argue with the goal of excellent performance?</em>&nbsp\; &nbsp\;Attendees are key decision makers and influencers in all industries such as healthcare\, banking\, technology\, manufacturing\, education\, and manufacturing.</span></span></span><br />\n<span style="font-family:open sans"><span style="font-size:12.0pt">The iPEX Conference <span style="color:black">also includes a celebration to recognize Iowa organizations who are on the Baldrige Performance Excellence Journey.&nbsp\; Our dinner celebration is focused on recognizing IRPE applicants for their dedication and high level of performance.</span></span></span><br />\n<span style="color:black"><span style="font-family:open sans"><span style="font-size:12.0pt">Why attend?</span></span></span>\n<ul>\n	<li><span style="font-family:open sans"><span style="font-size:12.0pt">3 Pre-conference workshops featuring well-known speakers</span></span></li>\n	<li><span style="font-family:open sans"><span style="font-size:12.0pt">20+ excellent speakers in Breakout Sessions</span></span></li>\n	<li><span style="font-family:open sans"><span style="font-size:12.0pt">Opportunity to network with a wide variety of executives\, leaders and others who are focused on learning and growing</span></span></li>\n</ul>\nFor more information go to <a href="https://iowaqc.org/ipex/">https://iowaqc.org/ipex/</a>&nbsp\; or Contact Deb Oliver at <a href="mailto:doliver@iowaqc.org">doliver@iowaqc.org</a>.<br />\n&nbsp\;
LOCATION:The Meadows Events & Conference Center\, 1 Prairie Meadows Dr\, Altoona\, IA 50009
UID:e.2843.14270
SEQUENCE:3
DTSTAMP:20260422T145450Z
URL:https://member.quadcitieschamber.com/events/details/the-iowa-performance-excellence-ipex-conference-14270
END:VEVENT

END:VCALENDAR
