BEGIN:VCALENDAR
VERSION:2.0
PRODID:-//ChamberMaster//Event Calendar 2.0//EN
METHOD:PUBLISH
X-PUBLISHED-TTL:P3D
REFRESH-INTERVAL:P3D
CALSCALE:GREGORIAN
BEGIN:VEVENT
DTSTART:20190509T233000Z
DTEND:20190510T013000Z
X-MICROSOFT-CDO-ALLDAYEVENT:FALSE
SUMMARY:The Law of Manifestation
DESCRIPTION:IONS-QC (Institute of Noetic Sciences-QC Community Group) presents: Robert Dubiel\, author\, will discuss the process of creation in the physical dimension\, including both moving forward and retrenchment.
X-ALT-DESC;FMTTYPE=text/html:IONS-QC (Institute of Noetic Sciences-QC Community Group) presents: Robert Dubiel\, author\, will discuss the process of creation in the physical dimension\, including both moving forward and retrenchment.
LOCATION:Bettendorf Public Library
UID:e.2843.15348
SEQUENCE:3
DTSTAMP:20260422T145639Z
URL:https://member.quadcitieschamber.com/events/details/the-law-of-manifestation-15348
END:VEVENT

END:VCALENDAR
