BEGIN:VCALENDAR
VERSION:2.0
PRODID:-//ChamberMaster//Event Calendar 2.0//EN
METHOD:PUBLISH
X-PUBLISHED-TTL:P3D
REFRESH-INTERVAL:P3D
CALSCALE:GREGORIAN
BEGIN:VEVENT
DTSTART:20121208T160000Z
DTEND:20121209T055500Z
X-MICROSOFT-CDO-ALLDAYEVENT:FALSE
SUMMARY:The Lord of the Rings Trilogy Marathon
DESCRIPTION:The Lord of the Rings Trilogy Marathon Details:\n\nSaturday\, December 8\, starting at 10 a.m.\, doorsopen at 8:30 a.m.\n\n    The Fellowship of the Ring\n    Intermission\n    The Two Towers\n    Intermission\, alcoholic beverages will be available for purchase at this time.\n    The Return of the King\n\nBy popular demand\, all 3 segments are the directorâ€™s extended cuts. Marathon price: $30 for adults and $25 for kids 12 and under. The marathon is only available as a package price\, individual movie tickets to the movies listed above are not available. Breakfast items\, unlimited pop and popcorn and additional meal items will be available for purchase. Seating is on a first come first receivebasis\, Putnam members will receive pre-seating privileges. Want to become a Putnam member to be seated first for this marathon? Click here!
X-ALT-DESC;FMTTYPE=text/html:The Lord of the Rings Trilogy Marathon Details:\n\nSaturday\, December 8\, starting at 10 a.m.\, doorsopen at 8:30 a.m.\n\n    The Fellowship of the Ring\n    Intermission\n    The Two Towers\n    Intermission\, alcoholic beverages will be available for purchase at this time.\n    The Return of the King\n\nBy popular demand\, all 3 segments are the directorâ€™s extended cuts. Marathon price: $30 for adults and $25 for kids 12 and under. The marathon is only available as a package price\, individual movie tickets to the movies listed above are not available. Breakfast items\, unlimited pop and popcorn and additional meal items will be available for purchase. Seating is on a first come first receivebasis\, Putnam members will receive pre-seating privileges. Want to become a Putnam member to be seated first for this marathon? Click here!
LOCATION:Putnam Museum and Giant Screen Theater1717 West 12th St. Davenport\, IA 52804
UID:e.2843.92
SEQUENCE:3
DTSTAMP:20260421T135031Z
URL:https://member.quadcitieschamber.com/events/details/the-lord-of-the-rings-trilogy-marathon-12-08-2012-92
END:VEVENT

END:VCALENDAR
