BEGIN:VCALENDAR
VERSION:2.0
PRODID:-//ChamberMaster//Event Calendar 2.0//EN
METHOD:PUBLISH
X-PUBLISHED-TTL:P3D
REFRESH-INTERVAL:P3D
CALSCALE:GREGORIAN
BEGIN:VEVENT
DTSTART:20110918T124500Z
DTEND:20110919T023000Z
X-MICROSOFT-CDO-ALLDAYEVENT:FALSE
SUMMARY:The Network: Chicago Cubs Rooftop Trip
DESCRIPTION:Don't miss your chance to catch an awesome game between the CUBS and the ASTROS at this year's Cub's Rooftop Bus Trip! Join us for the trip on Sunday\, September 18th\, 2011. We've reserved space on the Wrigley Field Rooftop Club for this game.\n\nThe bus leaves the QC from Farm & Fleet in Moline at 7:45am and returns around 9:30pm. Pricing is ALL Inclusive. $175 for members. $185 for guests. Price INCLUDES bus transportation\, beverages & breakfast munchies on the bus to the game\, and entrance to the rooftop for the game. Rooftop amenities include inside climate control floor with a great view and rooftop\, ALL food is included at the rooftop served the entire game (Hamburgers\, veggie burgers\, chicken sandwiches\, kosher style hot dogs\, Wisconsin style brats\, Italian sausage\, Italian beef\, pasta salad and a full dessert bar including ice cream)\, and ALL beverages (beer\, wine\, soda\, water) served through the 7th inning.\n\nDate: Sunday\, September 18th\, 2011\nTime: Bus Leaves at 7:45am from Farm & Fleet in Moline\nLocation: Wrigley Field Rooftop Club \nCost: $175 for members and $185 for guests
X-ALT-DESC;FMTTYPE=text/html:<DIV><P style="MARGIN: 0in 0in 0pt\; mso-pagination: none" class=MsoNormal><FONT size=2><SPAN style="FONT-FAMILY: 'Tahoma'\,'sans-serif'"></SPAN></FONT></P><P style="MARGIN: 0in 0in 0pt\; mso-pagination: none" class=MsoNormal><FONT size=2><SPAN style="FONT-FAMILY: 'Tahoma'\,'sans-serif'"></SPAN></FONT>&nbsp\;</P><P style="MARGIN: 0in 0in 0pt\; mso-pagination: none" class=MsoNormal><FONT size=2><SPAN style="FONT-FAMILY: 'Tahoma'\,'sans-serif'"></SPAN></FONT>&nbsp\;</P><P style="MARGIN: 0in 0in 0pt\; mso-pagination: none" class=MsoNormal><FONT size=2><SPAN style="FONT-FAMILY: 'Tahoma'\,'sans-serif'">Don't miss your chance to catch an awesome game between the </SPAN><SPAN style="FONT-FAMILY: 'Tahoma'\,'sans-serif'\; COLOR: #548dd4\; mso-themecolor: text2\; mso-themetint: 153">CUBS</SPAN><SPAN style="FONT-FAMILY: 'Tahoma'\,'sans-serif'"> and the&nbsp\;</SPAN><SPAN style="FONT-FAMILY: 'Tahoma'\,'sans-serif'\; COLOR: #e36c0a\; mso-themecolor: accent6\; mso-themeshade: 191"><FONT color=#ff0000>ASTROS</FONT></SPAN><SPAN style="FONT-FAMILY: 'Tahoma'\,'sans-serif'"> at this year's Cub's Rooftop Bus Trip! Join us for the trip on</SPAN><B><SPAN style="mso-arabic-font-family: Tahoma\; mso-cyrillic-font-family: Tahoma\; mso-default-font-family: Tahoma\; mso-greek-font-family: Tahoma\; mso-hebrew-font-family: Tahoma\; mso-latin-font-family: Tahoma\; mso-latinext-font-family: Tahoma\; mso-thai-font-family: Tahoma"><FONT face="Times New Roman"> Sunday\, September 18<SUP>th</SUP>\, 2011</FONT></B><FONT face="Times New Roman">. We've reserved space on the Wrigley Field Rooftop Club for this game.<BR><BR>The bus leaves the QC from Farm &amp\; Fleet in Moline at 7:45am and returns around 9:30pm. Pricing is ALL Inclusive. $175 for members. $185 for guests. Price INCLUDES bus transportation\, beverages &amp\; breakfast munchies on the bus to the game\, and entrance to the rooftop for the game. Rooftop amenities include inside climate control floor with a great view and rooftop\, ALL food is included at the rooftop served the entire game (Hamburgers\, veggie burgers\, chicken sandwiches\, kosher style hot dogs\, Wisconsin style brats\, Italian sausage\, Italian beef\, pasta salad and a full dessert bar including ice cream)\, and ALL beverages (beer\, wine\, soda\, water) served through the 7th inning.<BR style="mso-special-character: line-break"><BR style="mso-special-character: line-break"></P></FONT></FONT></SPAN></SPAN><P style="MARGIN: 0in 0in 14pt\; mso-pagination: none" class=MsoNormal><B><SPAN style="FONT-FAMILY: 'Tahoma'\,'sans-serif'"><FONT size=2>Date:</FONT></SPAN></SPAN></B><SPAN style="mso-arabic-font-family: Tahoma\; mso-cyrillic-font-family: Tahoma\; mso-default-font-family: Tahoma\; mso-greek-font-family: Tahoma\; mso-hebrew-font-family: Tahoma\; mso-latin-font-family: Tahoma\; mso-latinext-font-family: Tahoma\; mso-thai-font-family: Tahoma"><SPAN style="FONT-FAMILY: 'Tahoma'\,'sans-serif'"><FONT size=2> Sunday\, September 18<SUP>th</SUP>\, 2011<BR><B></SPAN><SPAN style="mso-arabic-font-family: Tahoma\; mso-cyrillic-font-family: Tahoma\; mso-default-font-family: Tahoma\; mso-greek-font-family: Tahoma\; mso-hebrew-font-family: Tahoma\; mso-latin-font-family: Tahoma\; mso-latinext-font-family: Tahoma\; mso-thai-font-family: Tahoma"><FONT face="Times New Roman">Time:</FONT></SPAN></B></FONT><SPAN style="mso-arabic-font-family: Tahoma\; mso-cyrillic-font-family: Tahoma\; mso-default-font-family: Tahoma\; mso-greek-font-family: Tahoma\; mso-hebrew-font-family: Tahoma\; mso-latin-font-family: Tahoma\; mso-latinext-font-family: Tahoma\; mso-thai-font-family: Tahoma"><FONT size=2><FONT face="Times New Roman"> Bus Leaves at 7:45am from Farm &amp\; Fleet in Moline<BR><B></SPAN><SPAN style="mso-arabic-font-family: Tahoma\; mso-cyrillic-font-family: Tahoma\; mso-default-font-family: Tahoma\; mso-greek-font-family: Tahoma\; mso-hebrew-font-family: Tahoma\; mso-latin-font-family: Tahoma\; mso-latinext-font-family: Tahoma\; mso-thai-font-family: Tahoma">Location: </SPAN></B></FONT></FONT><SPAN style="mso-arabic-font-family: Tahoma\; mso-cyrillic-font-family: Tahoma\; mso-default-font-family: Tahoma\; mso-greek-font-family: Tahoma\; mso-hebrew-font-family: Tahoma\; mso-latin-font-family: Tahoma\; mso-latinext-font-family: Tahoma\; mso-thai-font-family: Tahoma"><FONT size=2><FONT face="Times New Roman">Wrigley Field Rooftop Club <BR><B></SPAN><SPAN style="mso-arabic-font-family: Tahoma\; mso-cyrillic-font-family: Tahoma\; mso-default-font-family: Tahoma\; mso-greek-font-family: Tahoma\; mso-hebrew-font-family: Tahoma\; mso-latin-font-family: Tahoma\; mso-latinext-font-family: Tahoma\; mso-thai-font-family: Tahoma">Cost: </SPAN></B></FONT></FONT><SPAN style="mso-arabic-font-family: Tahoma\; mso-cyrillic-font-family: Tahoma\; mso-default-font-family: Tahoma\; mso-greek-font-family: Tahoma\; mso-hebrew-font-family: Tahoma\; mso-latin-font-family: Tahoma\; mso-latinext-font-family: Tahoma\; mso-thai-font-family: Tahoma"><FONT size=2><FONT face="Times New Roman">$175 for members and $185 for guests<BR style="mso-special-character: line-break"><BR style="mso-special-character: line-break"><B><?xml:namespace prefix = o ns = "urn:schemas-microsoft-com:office:office" /><o:p></o:p></B></FONT></FONT></SPAN></P></SPAN></DIV>
LOCATION:Wrigley Field
UID:e.2843.166
SEQUENCE:3
DTSTAMP:20260422T111214Z
URL:https://member.quadcitieschamber.com/events/details/the-network-chicago-cubs-rooftop-trip-09-18-2011-166
END:VEVENT

END:VCALENDAR
