BEGIN:VCALENDAR
VERSION:2.0
PRODID:-//ChamberMaster//Event Calendar 2.0//EN
METHOD:PUBLISH
X-PUBLISHED-TTL:P3D
REFRESH-INTERVAL:P3D
CALSCALE:GREGORIAN
BEGIN:VEVENT
DTSTART:20120211T010000Z
DTEND:20120211T040000Z
X-MICROSOFT-CDO-ALLDAYEVENT:FALSE
SUMMARY:The Network F.I.R.S.T. Event
DESCRIPTION:Join The Network's F.I.R.S.T. Committee for our first Winter Village Crawl featuring the 10th Anniversary Scavenger Hunt! We'll begin at 11th Street Precinct and end at Grumpy's in the Village of East Davenport as we explore a scavenger hunt for The Network: Young Professionals of the Quad Cities' 10th Anniversary! Join us from 7-10:00pm on February 10th for an evening of fun\, networking & celebration!
X-ALT-DESC;FMTTYPE=text/html:<DIV><P>Join The Network's F.I.R.S.T. Committee for our first Winter Village Crawl featuring the 10th Anniversary Scavenger Hunt! We'll begin at 11th Street Precinct and end at Grumpy's in the Village of East Davenport as we explore a scavenger hunt for The Network: Young Professionals of the Quad Cities' 10th Anniversary! Join us from 7-10:00pm on February 10th for an evening of fun\, networking &amp\; celebration! </P></DIV>
LOCATION:11th Street Precinct2108 E. 11th St. Davenport\, IA 52803
UID:e.2843.342
SEQUENCE:3
DTSTAMP:20260422T080558Z
URL:https://member.quadcitieschamber.com/events/details/the-network-f-i-r-s-t-event-02-10-2012-342
END:VEVENT

END:VCALENDAR
