BEGIN:VCALENDAR
VERSION:2.0
PRODID:-//ChamberMaster//Event Calendar 2.0//EN
METHOD:PUBLISH
X-PUBLISHED-TTL:P3D
REFRESH-INTERVAL:P3D
CALSCALE:GREGORIAN
BEGIN:VEVENT
DTSTART:20091208T060000Z
DTEND:20091208T060000Z
X-MICROSOFT-CDO-ALLDAYEVENT:FALSE
SUMMARY:The Network: Merry\, Meet\, & Mingle Pre-Paid
DESCRIPTION:The Network: Merry\, Meet\, & Mingle Pre-Paid
X-ALT-DESC;FMTTYPE=text/html:The Network: Merry\, Meet\, & Mingle Pre-Paid
LOCATION:
UID:e.2843.3796
SEQUENCE:3
DTSTAMP:20260424T104554Z
URL:https://member.quadcitieschamber.com/events/details/the-network-merry-meet-mingle-pre-paid-12-08-2009-3796
END:VEVENT

END:VCALENDAR
