BEGIN:VCALENDAR
VERSION:2.0
PRODID:-//ChamberMaster//Event Calendar 2.0//EN
METHOD:PUBLISH
X-PUBLISHED-TTL:P3D
REFRESH-INTERVAL:P3D
CALSCALE:GREGORIAN
BEGIN:VEVENT
DTSTART:20130629T000000Z
DTEND:20130629T013000Z
X-MICROSOFT-CDO-ALLDAYEVENT:FALSE
SUMMARY:The Network New Member Event
DESCRIPTION:New to The Network?  Connect with young professionals in an informal and casual setting while learning more about The Network. Enjoy hors d'oeuvres and cash bar\, win prizes\, have fun and create contacts. Not a member yet? Join us to learn how you can be a part of one of the largest\, most active YP groups in the Midwest!
X-ALT-DESC;FMTTYPE=text/html:<DIV>New to The Network? </DIV><DIV>&nbsp\;</DIV><DIV>Connect with young professionals in an informal and casual setting while learning more about The Network. Enjoy hors d'oeuvres and cash bar\, win prizes\, have fun and create contacts.</DIV><DIV>&nbsp\;</DIV><DIV>Not a member yet? Join us to learn how you can be a part of one of the largest\, most active YP groups in the Midwest!</DIV>
LOCATION:Front Street Brewery Tap Room421 W. River Drive Davenport\, IA 52801
UID:e.2843.604
SEQUENCE:3
DTSTAMP:20260421T134437Z
URL:https://member.quadcitieschamber.com/events/details/the-network-new-member-event-06-28-2013-604
END:VEVENT

END:VCALENDAR
