BEGIN:VCALENDAR
VERSION:2.0
PRODID:-//ChamberMaster//Event Calendar 2.0//EN
METHOD:PUBLISH
X-PUBLISHED-TTL:P3D
REFRESH-INTERVAL:P3D
CALSCALE:GREGORIAN
BEGIN:VEVENT
DTSTART:20111029T000000Z
DTEND:20111029T013000Z
X-MICROSOFT-CDO-ALLDAYEVENT:FALSE
SUMMARY:The Network: New Member Event
DESCRIPTION:Connect with local young professionals in an informal and casual setting while learning more about The Network: Young Professionals of the Quad Cities. Enjoy hors d’oeuvres and a cash bar\, win prizes\, have fun and make contacts!
X-ALT-DESC;FMTTYPE=text/html:<P style="MARGIN: 0in 0in 10pt" class=MsoNormal><SPAN style="LINE-HEIGHT: 115%\; FONT-FAMILY: 'Myriad Pro'\,'sans-serif'\; FONT-SIZE: 14pt\; mso-bidi-font-size: 11.0pt">Connect with local young professionals in an informal and casual setting while learning more about The Network: Young Professionals of the Quad Cities. Enjoy hors d’oeuvres and a cash bar\, win prizes\, have fun and make contacts! </SPAN></P><DIV>&nbsp\;</DIV>
LOCATION:Refresh1514 5th Avenue Moline\, IL 61265
UID:e.2843.259
SEQUENCE:3
DTSTAMP:20260422T124937Z
URL:https://member.quadcitieschamber.com/events/details/the-network-new-member-event-10-28-2011-259
END:VEVENT

END:VCALENDAR
