BEGIN:VCALENDAR
VERSION:2.0
PRODID:-//ChamberMaster//Event Calendar 2.0//EN
METHOD:PUBLISH
X-PUBLISHED-TTL:P3D
REFRESH-INTERVAL:P3D
CALSCALE:GREGORIAN
BEGIN:VEVENT
DTSTART:20121110T010000Z
DTEND:20121110T023000Z
X-MICROSOFT-CDO-ALLDAYEVENT:FALSE
SUMMARY:The Network: New Member Event
DESCRIPTION:Connect with local young professionals in an informal and casual setting while learning more about The Network: Young Professionals of the Quad Cities and how to get engaged. Enjoy hors d’oeuvres and a cash bar\, win prizes\, have fun and make contacts!This event is sponsored by Guardian Industries Corp.
X-ALT-DESC;FMTTYPE=text/html:<P><SPAN style="FONT-FAMILY: 'Georgia'\,'serif'\; COLOR: #222222\; FONT-SIZE: 10pt\; mso-bidi-font-family: Arial\; mso-ansi-language: EN" lang=EN><FONT face=Arial>Connect with local young professionals in an informal and casual setting while learning more about The Network: Young Professionals of the Quad Cities and how to get engaged. Enjoy hors d’oeuvres and a cash bar\, win prizes\, have fun and make contacts!<?xml:namespace prefix = o ns = "urn:schemas-microsoft-com:office:office" /><o:p></o:p></FONT></SPAN></P><DIV><FONT size=2>This event is sponsored by <SPAN style="FONT-FAMILY: 'Georgia'\,'serif'\; FONT-SIZE: 10pt\; mso-bidi-font-family: 'Times New Roman'\; mso-ansi-language: EN-US\; mso-bidi-font-size: 11.0pt\; mso-fareast-font-family: Calibri\; mso-fareast-theme-font: minor-latin\; mso-bidi-theme-font: minor-bidi\; mso-fareast-language: EN-US\; mso-bidi-language: AR-SA"><FONT face=Arial>Guardian Industries Corp. </FONT></SPAN></FONT></DIV>
LOCATION:Against the Grain Brewery & Ale House3040 14th Avenue Rock Island\, IL 61201
UID:e.2843.463
SEQUENCE:3
DTSTAMP:20260421T152256Z
URL:https://member.quadcitieschamber.com/events/details/the-network-new-member-event-11-09-2012-463
END:VEVENT

END:VCALENDAR
