BEGIN:VCALENDAR
VERSION:2.0
PRODID:-//ChamberMaster//Event Calendar 2.0//EN
METHOD:PUBLISH
X-PUBLISHED-TTL:P3D
REFRESH-INTERVAL:P3D
CALSCALE:GREGORIAN
BEGIN:VEVENT
DTSTART:20090617T050000Z
DTEND:20090617T050000Z
X-MICROSOFT-CDO-ALLDAYEVENT:FALSE
SUMMARY:The Network @ Noon Leaders Panel
DESCRIPTION:The Network @ Noon Leaders Panel
X-ALT-DESC;FMTTYPE=text/html:The Network @ Noon Leaders Panel
LOCATION:
UID:e.2843.3711
SEQUENCE:3
DTSTAMP:20260424T073356Z
URL:https://member.quadcitieschamber.com/events/details/the-network-noon-leaders-panel-06-17-2009-3711
END:VEVENT

END:VCALENDAR
