BEGIN:VCALENDAR
VERSION:2.0
PRODID:-//ChamberMaster//Event Calendar 2.0//EN
METHOD:PUBLISH
X-PUBLISHED-TTL:P3D
REFRESH-INTERVAL:P3D
CALSCALE:GREGORIAN
BEGIN:VEVENT
DTSTART:20091013T050000Z
DTEND:20091013T050000Z
X-MICROSOFT-CDO-ALLDAYEVENT:FALSE
SUMMARY:The Network @ Noon - PAY AT DOOR
DESCRIPTION:The Network @ Noon - PAY AT DOOR
X-ALT-DESC;FMTTYPE=text/html:The Network @ Noon - PAY AT DOOR
LOCATION:
UID:e.2843.3779
SEQUENCE:3
DTSTAMP:20260424T074029Z
URL:https://member.quadcitieschamber.com/events/details/the-network-noon-pay-at-door-10-13-2009-3779
END:VEVENT

END:VCALENDAR
