BEGIN:VCALENDAR
VERSION:2.0
PRODID:-//ChamberMaster//Event Calendar 2.0//EN
METHOD:PUBLISH
X-PUBLISHED-TTL:P3D
REFRESH-INTERVAL:P3D
CALSCALE:GREGORIAN
BEGIN:VEVENT
DTSTART:20091001T050000Z
DTEND:20091001T050000Z
X-MICROSOFT-CDO-ALLDAYEVENT:FALSE
SUMMARY:The Network @ PM - PAY AT DOOR
DESCRIPTION:The Network @ PM - PAY AT DOOR
X-ALT-DESC;FMTTYPE=text/html:The Network @ PM - PAY AT DOOR
LOCATION:
UID:e.2843.3773
SEQUENCE:3
DTSTAMP:20260424T073626Z
URL:https://member.quadcitieschamber.com/events/details/the-network-pm-pay-at-door-10-01-2009-3773
END:VEVENT

END:VCALENDAR
