BEGIN:VCALENDAR
VERSION:2.0
PRODID:-//ChamberMaster//Event Calendar 2.0//EN
METHOD:PUBLISH
X-PUBLISHED-TTL:P3D
REFRESH-INTERVAL:P3D
CALSCALE:GREGORIAN
BEGIN:VEVENT
DTSTART:20120503T180000Z
DTEND:20120504T000000Z
X-MICROSOFT-CDO-ALLDAYEVENT:FALSE
SUMMARY:The Network's Symposium & YP Awards 2012
DESCRIPTION:Celebrate The Network's 10 Year Anniversary during our 2nd Annual Symposium & YP Community Impact Awards! The event will begin with our keynote at noon with a luncheon at Hotel Blackhawk. This year\, our nationally recognized speakers include: Matt Mattson (keynote)\, "Social Excellence" Gale Mote\, "Building on Strengths\, Managing Around Weaknesses" Cassie Boorn\, "Social Media for Small Business" Ryan Burchett\, "Following Your Passion" The Loop (special mobile breakout!) Bill Stoermer\, Dave Green\, Tom Schuetz\, Caitlin Russell and Amy Balenseifen\, "Ignite Your Professionals Success with Philanthropy" Join us after the Symposium for the YP Community Impact Awards at the Figge Art Museum where we will honor individuals\, businesses & organizations promoting a YP-friendly culture in the Quad Cities! The YP of the Year will be announced along with many others! 11:30 a.m. Registration at Hotel Blackhawk\n12:00 p.m. Luncheon ft. Keynote\, Matt Mattson\n1:30 p.m. Breakout Session #1\n3:00 p.m. Cafe Style Discussion\n4:30 p.m. Breakout Session #2\n5:30 pm. Cocktails at Figge Art Museum\n6:00 p.m. YP Community Impact Awards at Figge Art Museum  Early bird Special (register before March 30th\, 2012)\, $55 for members\, $65 for guests\nSymposium Registration\, $65 for members\, $75 for guests\nKeynote Luncheon only\, $20 for members\, $30 for guests\nYP Community Impact Awards only\, Free for members\, $10 for guests\n*Symposium registration includes Keynote Luncheon & YP Community Impact Awards Location Sponsors: Hotel Blackhawk\, Big Brothers Big Sisters\, Figge Art Museum & The Phoenix\nSession Sponsors: United Way Young Leaders\, DHCU Community Credit Union & William Wesley Grand Salon & Spa\nSupporting Sponsors: Isle of Capri\nDesign Sponsor: Mandle Design\, Inc. Click here to see who has already registered for this event!
X-ALT-DESC;FMTTYPE=text/html:<P style="MARGIN: 0in 0in 0pt\; mso-margin-top-alt: auto\; mso-margin-bottom-alt: auto" class=MsoNormal><SPAN style="FONT-FAMILY: 'Arial'\,'sans-serif'\; FONT-SIZE: 10pt\; mso-fareast-font-family: 'Times New Roman'">Celebrate The Network's 10 Year Anniversary during our 2nd Annual Symposium &amp\; YP Community Impact Awards! The event will begin with our keynote at noon with a luncheon at Hotel Blackhawk. This year\, our nationally recognized speakers include:&nbsp\;<?xml:namespace prefix = o ns = "urn:schemas-microsoft-com:office:office" /><o:p></o:p></SPAN></P><UL type=disc><LI style="MARGIN: 0in 0in 0pt\; mso-margin-top-alt: auto\; mso-margin-bottom-alt: auto\; mso-list: l0 level1 lfo1\; tab-stops: list .5in" class=MsoNormal><SPAN style="FONT-FAMILY: 'Arial'\,'sans-serif'\; FONT-SIZE: 10pt\; mso-fareast-font-family: 'Times New Roman'">Matt Mattson (keynote)\, "Social Excellence" <o:p></o:p></SPAN><LI style="MARGIN: 0in 0in 0pt\; mso-margin-top-alt: auto\; mso-margin-bottom-alt: auto\; mso-list: l0 level1 lfo1\; tab-stops: list .5in" class=MsoNormal><SPAN style="FONT-FAMILY: 'Arial'\,'sans-serif'\; FONT-SIZE: 10pt\; mso-fareast-font-family: 'Times New Roman'">Gale Mote\, "Building on Strengths\, Managing Around Weaknesses" <o:p></o:p></SPAN><LI style="MARGIN: 0in 0in 0pt\; mso-margin-top-alt: auto\; mso-margin-bottom-alt: auto\; mso-list: l0 level1 lfo1\; tab-stops: list .5in" class=MsoNormal><SPAN style="FONT-FAMILY: 'Arial'\,'sans-serif'\; FONT-SIZE: 10pt\; mso-fareast-font-family: 'Times New Roman'">Cassie Boorn\, "Social Media for Small Business" <o:p></o:p></SPAN><LI style="MARGIN: 0in 0in 0pt\; mso-margin-top-alt: auto\; mso-margin-bottom-alt: auto\; mso-list: l0 level1 lfo1\; tab-stops: list .5in" class=MsoNormal><SPAN style="FONT-FAMILY: 'Arial'\,'sans-serif'\; FONT-SIZE: 10pt\; mso-fareast-font-family: 'Times New Roman'">Ryan Burchett\, "Following Your Passion" <o:p></o:p></SPAN><LI style="MARGIN: 0in 0in 0pt\; mso-margin-top-alt: auto\; mso-margin-bottom-alt: auto\; mso-list: l0 level1 lfo1\; tab-stops: list .5in" class=MsoNormal><SPAN style="FONT-FAMILY: 'Arial'\,'sans-serif'\; FONT-SIZE: 10pt\; mso-fareast-font-family: 'Times New Roman'">The Loop (special mobile breakout!) </SPAN><LI style="MARGIN: 0in 0in 0pt\; mso-margin-top-alt: auto\; mso-margin-bottom-alt: auto\; mso-list: l0 level1 lfo1\; tab-stops: list .5in" class=MsoNormal><SPAN style="FONT-FAMILY: 'Arial'\,'sans-serif'\; FONT-SIZE: 10pt\; mso-fareast-font-family: 'Times New Roman'"><o:p>Bill Stoermer\, Dave Green\, Tom Schuetz\, Caitlin Russell and Amy Balenseifen\, "Ignite Your Professionals Success with Philanthropy"</o:p></SPAN></LI></UL><P style="MARGIN: 0in 0in 0pt\; mso-margin-top-alt: auto\; mso-margin-bottom-alt: auto\; mso-list: l0 level1 lfo1\; tab-stops: list .5in" class=MsoNormal><SPAN style="FONT-FAMILY: 'Arial'\,'sans-serif'\; FONT-SIZE: 10pt\; mso-fareast-font-family: 'Times New Roman'"><o:p></o:p></SPAN>&nbsp\;</P><P style="MARGIN: 0in 0in 0pt\; mso-margin-top-alt: auto\; mso-margin-bottom-alt: auto" class=MsoNormal><SPAN style="FONT-FAMILY: 'Arial'\,'sans-serif'\; FONT-SIZE: 10pt\; mso-fareast-font-family: 'Times New Roman'">Join us after the Symposium for the YP Community Impact Awards at the Figge Art Museum where we will honor individuals\, businesses &amp\; organizations promoting a YP-friendly culture in the Quad Cities! The YP of the Year will be announced along with many others!<o:p></o:p></SPAN></P><P style="MARGIN: 0in 0in 0pt\; mso-margin-top-alt: auto\; mso-margin-bottom-alt: auto" class=MsoNormal><SPAN style="FONT-FAMILY: 'Arial'\,'sans-serif'\; FONT-SIZE: 10pt\; mso-fareast-font-family: 'Times New Roman'">&nbsp\;<o:p></o:p></SPAN></P><P style="MARGIN: 0in 0in 0pt\; mso-margin-top-alt: auto\; mso-margin-bottom-alt: auto" class=MsoNormal><SPAN style="FONT-FAMILY: 'Arial'\,'sans-serif'\; FONT-SIZE: 10pt\; mso-fareast-font-family: 'Times New Roman'">11:30 a.m. Registration at Hotel Blackhawk<BR>12:00 p.m. Luncheon ft. Keynote\, Matt Mattson<BR>1:30 p.m. Breakout Session #1<BR>3:00 p.m. Cafe Style Discussion<BR>4:30 p.m. Breakout Session #2<BR>5:30 pm. Cocktails at Figge Art Museum<BR>6:00 p.m. YP Community Impact Awards at Figge Art Museum<o:p></o:p></SPAN></P><P style="MARGIN: 0in 0in 0pt\; mso-margin-top-alt: auto\; mso-margin-bottom-alt: auto" class=MsoNormal><SPAN style="FONT-FAMILY: 'Arial'\,'sans-serif'\; FONT-SIZE: 10pt\; mso-fareast-font-family: 'Times New Roman'"></SPAN>&nbsp\;</P><P style="MARGIN: 0in 0in 0pt\; mso-margin-top-alt: auto\; mso-margin-bottom-alt: auto" class=MsoNormal><SPAN style="FONT-FAMILY: 'Arial'\,'sans-serif'\; FONT-SIZE: 10pt\; mso-fareast-font-family: 'Times New Roman'">&nbsp\;<o:p></o:p></SPAN></P><P style="MARGIN: 0in 0in 0pt\; mso-margin-top-alt: auto\; mso-margin-bottom-alt: auto" class=MsoNormal><SPAN style="FONT-FAMILY: 'Arial'\,'sans-serif'\; FONT-SIZE: 10pt\; mso-fareast-font-family: 'Times New Roman'">Early bird Special (register before March 30th\, 2012)\, $55 for members\, $65 for guests<BR>Symposium Registration\, $65 for members\, $75 for guests<BR>Keynote Luncheon only\, $20 for members\, $30 for guests<BR>YP Community Impact Awards only\, Free for members\, $10 for guests<BR>*Symposium registration includes Keynote Luncheon &amp\; YP Community Impact Awards<o:p></o:p></SPAN></P><P style="MARGIN: 0in 0in 0pt\; mso-margin-top-alt: auto\; mso-margin-bottom-alt: auto" class=MsoNormal><SPAN style="FONT-FAMILY: 'Arial'\,'sans-serif'\; FONT-SIZE: 10pt\; mso-fareast-font-family: 'Times New Roman'">&nbsp\;<o:p></o:p></SPAN></P><P style="MARGIN: 0in 0in 0pt\; mso-margin-top-alt: auto\; mso-margin-bottom-alt: auto" class=MsoNormal><SPAN style="FONT-FAMILY: 'Arial'\,'sans-serif'\; FONT-SIZE: 10pt\; mso-fareast-font-family: 'Times New Roman'">Location Sponsors: Hotel Blackhawk\, Big Brothers Big Sisters\, Figge Art Museum &amp\; The Phoenix<BR>Session Sponsors: United Way Young Leaders\, DHCU Community Credit Union &amp\; William Wesley Grand Salon &amp\; Spa<BR>Supporting Sponsors: Isle of Capri<BR>Design Sponsor: Mandle Design\, Inc.<o:p></o:p></SPAN></P><P style="MARGIN: 0in 0in 0pt\; mso-margin-top-alt: auto\; mso-margin-bottom-alt: auto" class=MsoNormal><SPAN style="FONT-FAMILY: 'Arial'\,'sans-serif'\; FONT-SIZE: 10pt\; mso-fareast-font-family: 'Times New Roman'"><o:p>&nbsp\;</o:p></SPAN></P><P style="MARGIN: 0in 0in 0pt\; mso-margin-top-alt: auto\; mso-margin-bottom-alt: auto" class=MsoNormal><SPAN style="FONT-FAMILY: 'Arial'\,'sans-serif'\; FONT-SIZE: 10pt\; mso-fareast-font-family: 'Times New Roman'"><A style="COLOR: blue\; TEXT-DECORATION: underline" title="" dataFld=0:0 href="http://events.quadcitieschamber.com/sbaweb/common/attendees.asp?eventcode=YPSYM2012" target=_self><SPAN style="COLOR: windowtext">Click here</SPAN></A> to see who has already registered for this event! <o:p></o:p></SPAN></P><P><P>&nbsp\;</P><P></P>
LOCATION:Hotel Blackhawk200 E. 3rd St. Davenport\, IA 52801
UID:e.2843.283
SEQUENCE:3
DTSTAMP:20260422T013032Z
URL:https://member.quadcitieschamber.com/events/details/the-network-s-symposium-yp-awards-2012-05-03-2012-283
END:VEVENT

END:VCALENDAR
