BEGIN:VCALENDAR
VERSION:2.0
PRODID:-//ChamberMaster//Event Calendar 2.0//EN
METHOD:PUBLISH
X-PUBLISHED-TTL:P3D
REFRESH-INTERVAL:P3D
CALSCALE:GREGORIAN
BEGIN:VEVENT
DTSTART:20130502T180000Z
DTEND:20130503T000000Z
X-MICROSOFT-CDO-ALLDAYEVENT:FALSE
SUMMARY:The Network's Symposium & YP Awards 2013
DESCRIPTION:"Ignite Your Leadership Potential" during The Network's 3rd Annual Symposium & YP Community Impact Awards! This year\, our nationally recognized speakers include: \n* Andy Stoll (keynote)\, "Making Ideas Happen in Your Community"\n*Ginny Wilson-Peters\, "Dealing with Change" \n* Fred Smith\, "Make Winning Decisions" \n* Andy Stoll (breakout)\, Entrepreneurship  \n* Molly Foley (cafe style discussion)\, "Quad Cities Week" Join us after the Symposium for the YP Community Impact Awards at The Establishment Theatre where we will honor individuals\, businesses & organizations promoting a YP-friendly culture in the Quad Cities! The YP of the Year will be announced along with many others! \n12:30 p.m. Registration at The Establishment Theatre\n1:00 p.m. Welcome message from Guys in Ties\n1:45 p.m. Cafe Style Discussion\n3:00 p.m. Breakout Session #1\n4:15 p.m. Breakout Session #2\n5:30 pm. Cocktails at The Establishment Theatre\n6:00 p.m. YP Community Impact Awards at The Establishment Theatre \nEarly bird Special (register before April 1\, 2013)\, $50 for members\, $60 for guests\nSymposium Registration\, $60 for members\, $75 for guests\nYP Community Impact Awards only\, $10 for members\, $20 for guests\n*Symposium registration includes entrance to YP Community Impact Awards\nYP Community Impact Awards Presenting Sponsor: Northwest Bank & Trust Company\nQuad Cities Week Sponsor: KJWW Engineering Consultants\nLocation Sponsors: The Establishment Theatre and Quad City Arts\nSession Sponsors: Mississippi Valley Regional Blood Center and Hotel Blackhawk\nSupporting Sponsor: Mississippi River Distilling Company\nMedia Sponsor: WHBF CBS 4\n              Location: The Establishment Theatre              220 19th St.\, Rock Island\, Quad Cities\, IL
X-ALT-DESC;FMTTYPE=text/html:<P style="LINE-HEIGHT: normal\; MARGIN: 0in 0in 10pt\; mso-margin-top-alt: auto\; mso-margin-bottom-alt: auto" class=MsoNormal><SPAN style="FONT-FAMILY: 'Arial'\,'sans-serif'\; FONT-SIZE: 10pt\; mso-fareast-font-family: 'Times New Roman'"><FONT face=Tahoma></FONT></SPAN></P><P style="LINE-HEIGHT: normal\; MARGIN: 0in 0in 10pt\; mso-margin-top-alt: auto\; mso-margin-bottom-alt: auto" class=MsoNormal><SPAN style="FONT-FAMILY: 'Arial'\,'sans-serif'\; FONT-SIZE: 10pt\; mso-fareast-font-family: 'Times New Roman'"><FONT face=Tahoma></FONT></SPAN></P><DIV><SPAN style="FONT-FAMILY: 'Arial'\,'sans-serif'\; FONT-SIZE: 10pt\; mso-fareast-font-family: 'Times New Roman'"><FONT face=Tahoma>"Ignite Your Leadership Potential" during The Network's 3rd Annual Symposium &amp\; YP Community Impact Awards! This year\, our nationally recognized speakers include:&nbsp\;<BR>*&nbsp\;Andy Stoll (keynote)\, "Making Ideas Happen in Your Community"<BR>*Ginny Wilson-Peters\, "Dealing with Change"&nbsp\;<BR>*&nbsp\;Fred Smith\, "Make Winning Decisions"&nbsp\;<BR>*&nbsp\;Andy Stoll (breakout)\, Entrepreneurship&nbsp\;&nbsp\;<BR>*&nbsp\;Molly Foley (cafe style discussion)\, "Quad Cities Week"</FONT></SPAN></DIV><DIV><SPAN style="FONT-FAMILY: 'Arial'\,'sans-serif'\; FONT-SIZE: 10pt\; mso-fareast-font-family: 'Times New Roman'"><FONT face=Tahoma></FONT></SPAN>&nbsp\;</DIV><DIV><SPAN style="FONT-FAMILY: 'Arial'\,'sans-serif'\; FONT-SIZE: 10pt\; mso-fareast-font-family: 'Times New Roman'"><FONT face=Tahoma>Join us after the Symposium for the YP Community Impact Awards at The Establishment Theatre where we will honor individuals\, businesses &amp\; organizations promoting a YP-friendly culture in the Quad Cities! The YP of the Year will be announced along with many others! </FONT></SPAN></DIV><SPAN style="FONT-FAMILY: 'Arial'\,'sans-serif'\; FONT-SIZE: 10pt\; mso-fareast-font-family: 'Times New Roman'"><FONT face=Tahoma><DIV><BR>12:30 p.m. Registration at The Establishment Theatre<BR>1:00 p.m. Welcome message from Guys in Ties<BR>1:45 p.m. Cafe Style Discussion<BR>3:00 p.m. Breakout Session #1<BR>4:15 p.m. Breakout Session #2<BR>5:30 pm. Cocktails at The Establishment Theatre<BR>6:00 p.m. YP Community Impact Awards at The Establishment Theatre </DIV><DIV><BR>Early bird Special (register before April 1\, 2013)\, $50 for members\, $60 for guests<BR>Symposium Registration\, $60 for members\, $75 for guests<BR>YP Community Impact Awards only\, $10 for members\, $20 for guests<BR>*Symposium registration includes entrance to YP Community Impact Awards</DIV><DIV><BR>YP Community Impact Awards Presenting Sponsor: Northwest Bank &amp\; Trust Company<BR>Quad Cities Week Sponsor: KJWW Engineering Consultants<BR>Location Sponsors: The Establishment Theatre and Quad City Arts<BR>Session Sponsors: Mississippi Valley Regional Blood Center and Hotel Blackhawk<BR>Supporting Sponsor: Mississippi River Distilling Company<BR>Media Sponsor: WHBF CBS 4<BR></DIV><DIV align=center>&nbsp\;&nbsp\;&nbsp\;&nbsp\;&nbsp\;&nbsp\;&nbsp\;&nbsp\;&nbsp\;&nbsp\;&nbsp\;&nbsp\;&nbsp\; Location: The Establishment Theatre</DIV><DIV align=center>&nbsp\;&nbsp\;&nbsp\;&nbsp\;&nbsp\;&nbsp\;&nbsp\;&nbsp\;&nbsp\;&nbsp\;&nbsp\;&nbsp\;&nbsp\;&nbsp\;220 19th St.\, Rock Island\, Quad Cities\, IL</DIV></FONT></SPAN>
LOCATION:
UID:e.2843.411
SEQUENCE:3
DTSTAMP:20260421T134509Z
URL:https://member.quadcitieschamber.com/events/details/the-network-s-symposium-yp-awards-2013-05-02-2013-411
END:VEVENT

END:VCALENDAR
