BEGIN:VCALENDAR
VERSION:2.0
PRODID:-//ChamberMaster//Event Calendar 2.0//EN
METHOD:PUBLISH
X-PUBLISHED-TTL:P3D
REFRESH-INTERVAL:P3D
CALSCALE:GREGORIAN
BEGIN:VEVENT
DTSTART:20140501T190000Z
DTEND:20140502T000000Z
X-MICROSOFT-CDO-ALLDAYEVENT:FALSE
SUMMARY:The Network's Symposium & YP Awards 2014
DESCRIPTION:The YP Community Impact Awards are SOLD OUT! If you would still like to register for The Network's Symposium\, please call Daniel Joiner at (563) 823-2655. Join us for our fourth Annual Symposium & YP Community Impact Awards as we engage YPs in changing the way we think about our region and our development. Enjoy sessions on generating big ideas\, building legacy\, shaping your future\, and making an impact on the Quad Cities\, wrapping up with a keynote from Peter Kageyama on why lovable cities matter.This year\, our nationally recognized speakers include: \n* Peter Kageyama (keynote)\, For the Love of Cities* Kristine Arens\, SiloTree Coaching & Consulting\, For the Love of Legacy* Liza Kensrud\, University of Iowa Tippie College of Business\, For the Love of Your Future Join us after the Symposium for the YP Community Impact Awards at The Establishment Theatre where we will honor individuals\, businesses & organizations promoting a YP-friendly culture in the Quad Cities. The Best Place to Work for YPs will be announced along with many others! \n2:00 p.m. Registration at The Establishment Theatre\n2:30 p.m. Welcome Message/Networking3:15 p.m. Breakout Session #1\n4:15 p.m. Breakout Session #2\n5:30 pm. Cocktails at The Establishment Theatre\n6:00 p.m. YP Community Impact Awards at The Establishment Theatre \nSymposium Registration\, $35 for members\, $45 for guests\n\nYP Community Impact Awards Presenting Sponsor: Northwest Bank & Trust CompanySymposium Presenting Sponsor: Univerisity of Iowa Tippie MBA\nQuad Cities Week Sponsor: KJWW Engineering Consultants\nLocation Sponsors: The Establishment Theatre\, Circa '21 and The District Theatre\nSession Sponsors: Mississippi Valley Regional Blood Center \nSupporting Sponsor: McGladrey               Location: The Establishment Theatre              220 19th St.\, Rock Island\, Quad Cities\, IL
X-ALT-DESC;FMTTYPE=text/html:<P style="LINE-HEIGHT: normal\; MARGIN: 0in 0in 10pt\; mso-margin-top-alt: auto\; mso-margin-bottom-alt: auto" class=MsoNormal><SPAN style="FONT-FAMILY: 'Arial'\,'sans-serif'\; FONT-SIZE: 10pt\; mso-fareast-font-family: 'Times New Roman'"><FONT face=Tahoma></FONT></SPAN></P><P style="LINE-HEIGHT: normal\; MARGIN: 0in 0in 10pt\; mso-margin-top-alt: auto\; mso-margin-bottom-alt: auto" class=MsoNormal><SPAN style="FONT-FAMILY: 'Arial'\,'sans-serif'\; FONT-SIZE: 10pt\; mso-fareast-font-family: 'Times New Roman'"><FONT face=Tahoma></FONT></SPAN></P><DIV><SPAN style="FONT-FAMILY: 'Arial'\,'sans-serif'\; FONT-SIZE: 10pt\; mso-fareast-font-family: 'Times New Roman'"><FONT face=Tahoma><SPAN style="TEXT-ALIGN: left\; TEXT-TRANSFORM: none\; BACKGROUND-COLOR: rgb(255\,255\,255)\; TEXT-INDENT: 0px\; LETTER-SPACING: normal\; FONT: 10pt Tahoma\, Arial\, sans-serif\; WHITE-SPACE: normal\; COLOR: rgb(0\,0\,0)\; WORD-SPACING: 0px\; -webkit-text-stroke-width: 0px" _mce_style="font-size: 10pt\;"><STRONG><U>The YP Community Impact Awards are SOLD OUT! If you would still like to register for The Network's Symposium\, please call Daniel Joiner at (563) 823-2655.</U></STRONG></SPAN></FONT></SPAN></DIV><DIV><SPAN style="FONT-FAMILY: 'Arial'\,'sans-serif'\; FONT-SIZE: 10pt\; mso-fareast-font-family: 'Times New Roman'"><FONT face=Tahoma><SPAN style="TEXT-ALIGN: left\; TEXT-TRANSFORM: none\; BACKGROUND-COLOR: rgb(255\,255\,255)\; TEXT-INDENT: 0px\; LETTER-SPACING: normal\; FONT: 10pt Tahoma\, Arial\, sans-serif\; WHITE-SPACE: normal\; COLOR: rgb(0\,0\,0)\; WORD-SPACING: 0px\; -webkit-text-stroke-width: 0px" _mce_style="font-size: 10pt\;"></SPAN></FONT></SPAN>&nbsp\;</DIV><DIV><SPAN style="FONT-FAMILY: 'Arial'\,'sans-serif'\; FONT-SIZE: 10pt\; mso-fareast-font-family: 'Times New Roman'"><FONT face=Tahoma><SPAN style="TEXT-ALIGN: left\; TEXT-TRANSFORM: none\; BACKGROUND-COLOR: rgb(255\,255\,255)\; TEXT-INDENT: 0px\; LETTER-SPACING: normal\; FONT: 10pt Tahoma\, Arial\, sans-serif\; WHITE-SPACE: normal\; COLOR: rgb(0\,0\,0)\; WORD-SPACING: 0px\; -webkit-text-stroke-width: 0px" _mce_style="font-size: 10pt\;">Join us for our fourth </SPAN><SPAN style="TEXT-ALIGN: left\; TEXT-TRANSFORM: none\; BACKGROUND-COLOR: rgb(255\,255\,255)\; TEXT-INDENT: 0px\; LETTER-SPACING: normal\; FONT: 10pt Tahoma\, Arial\, sans-serif\; WHITE-SPACE: normal\; COLOR: rgb(0\,0\,0)\; WORD-SPACING: 0px\; -webkit-text-stroke-width: 0px" _mce_style="font-size: 10pt\;">Annual Symposium &amp\; YP Community Impact Awards as we engage YPs in changing the way we think about our region and our development. Enjoy sessions<SPAN class=Apple-converted-space>&nbsp\;</SPAN><SPAN style="BACKGROUND-COLOR: white\; FONT-FAMILY: Tahoma\, Arial\, sans-serif\; FONT-SIZE: 10pt" _mce_style="font-size: 10pt\; font-family: Tahoma\, Arial\, sans-serif\; background-color: white\; background- background-repeat: initial initial\;">on generating big ideas\, building legacy\, shaping your future\, and making an impact on the Quad Cities</SPAN>\, wrapping up with a keynote from Peter Kageyama on why lovable cities matter.</SPAN>This year\, our nationally recognized speakers include:&nbsp\;</FONT></SPAN></DIV><SPAN style="FONT-FAMILY: 'Arial'\,'sans-serif'\; FONT-SIZE: 10pt\; mso-fareast-font-family: 'Times New Roman'"><DIV><BR><FONT face=Tahoma>*&nbsp\;Peter Kageyama&nbsp\;(keynote)\, For the Love of Cities</FONT></DIV><DIV><FONT face=Tahoma>* Kristine Arens\, SiloTree Coaching &amp\; Consulting\,&nbsp\;For the Love of Legacy</FONT></DIV><DIV><FONT face=Tahoma>*&nbsp\;Liza Kensrud\, University of Iowa Tippie College of Business\,&nbsp\;For the Love of Your Future</FONT></SPAN></DIV><DIV><SPAN style="FONT-FAMILY: 'Arial'\,'sans-serif'\; FONT-SIZE: 10pt\; mso-fareast-font-family: 'Times New Roman'"><FONT face=Tahoma></FONT></SPAN>&nbsp\;</DIV><DIV><SPAN style="FONT-FAMILY: 'Arial'\,'sans-serif'\; FONT-SIZE: 10pt\; mso-fareast-font-family: 'Times New Roman'"><FONT face=Tahoma>Join us after the Symposium for the YP Community Impact Awards at The Establishment Theatre where we will honor individuals\, businesses &amp\; organizations promoting a YP-friendly culture in the Quad Cities. The Best Place to Work for YPs will be announced along with many others! </FONT></SPAN></DIV><SPAN style="FONT-FAMILY: 'Arial'\,'sans-serif'\; FONT-SIZE: 10pt\; mso-fareast-font-family: 'Times New Roman'"><FONT face=Tahoma><DIV><BR>2:00 p.m. Registration at The Establishment Theatre<BR>2:30 p.m. Welcome Message/Networking</DIV><DIV>3:15 p.m. Breakout Session #1<BR>4:15 p.m. Breakout Session #2<BR>5:30 pm. Cocktails at The Establishment Theatre<BR>6:00 p.m. YP Community Impact Awards at The Establishment Theatre </DIV><DIV><BR>Symposium Registration\, $35 for members\, $45 for guests<BR><BR>YP Community Impact Awards Presenting Sponsor: Northwest Bank &amp\; Trust Company</DIV><DIV>Symposium Presenting Sponsor: Univerisity of Iowa Tippie MBA<BR>Quad Cities Week Sponsor: KJWW Engineering Consultants<BR>Location Sponsors: The Establishment Theatre\, Circa '21 and&nbsp\;The District Theatre<BR>Session Sponsors: Mississippi Valley Regional Blood Center <BR>Supporting Sponsor: McGladrey</DIV><DIV>&nbsp\;</DIV><DIV align=center>&nbsp\;&nbsp\;&nbsp\;&nbsp\;&nbsp\;&nbsp\;&nbsp\;&nbsp\;&nbsp\;&nbsp\;&nbsp\;&nbsp\;&nbsp\; Location: The Establishment Theatre</DIV><DIV align=center>&nbsp\;&nbsp\;&nbsp\;&nbsp\;&nbsp\;&nbsp\;&nbsp\;&nbsp\;&nbsp\;&nbsp\;&nbsp\;&nbsp\;&nbsp\;&nbsp\;220 19th St.\, Rock Island\, Quad Cities\, IL</DIV></FONT></SPAN>
LOCATION:The Establishment Theatre220 19th St. Rock Island\, IL 61204
UID:e.2843.665
SEQUENCE:3
DTSTAMP:20260422T110301Z
URL:https://member.quadcitieschamber.com/events/details/the-network-s-symposium-yp-awards-2014-05-01-2014-665
END:VEVENT

END:VCALENDAR
