BEGIN:VCALENDAR
VERSION:2.0
PRODID:-//ChamberMaster//Event Calendar 2.0//EN
METHOD:PUBLISH
X-PUBLISHED-TTL:P3D
REFRESH-INTERVAL:P3D
CALSCALE:GREGORIAN
BEGIN:VEVENT
DTSTART:20121013T154500Z
DTEND:20121013T190000Z
X-MICROSOFT-CDO-ALLDAYEVENT:FALSE
SUMMARY:The Network Special Event: Random Acts of Tailgating with the Davenport Jaycees
DESCRIPTION:A 'random act of tailgating' is taking place on Saturday\, October 13\, for the Iowa vs. Michigan State football game. Join The Network and the Davenport Jaycees for a special event including tailgating\, games\, fun and tons of young professionals. Enjoy the game indoors or outdoors on 60" flat screens\, savor delicious grilled food and ice cold beverages and participate in our appetizer and dessert challenges by bringing your own concoctions for the group! The game starts at 11:00 a.m.\, so head over to the Jaycees Hall around 10:45 a.m. for a day of guaranteed fun! $10 per person.
X-ALT-DESC;FMTTYPE=text/html:<DIV>A 'random act of tailgating' is taking place on Saturday\, October 13\, for the Iowa vs. Michigan State football game. Join The Network and the Davenport Jaycees for a special event including tailgating\, games\, fun and tons of young professionals. Enjoy the game indoors or outdoors on 60" flat screens\, savor delicious grilled food and ice cold beverages and participate in our appetizer and dessert challenges by bringing your own concoctions for the group!</DIV><DIV>&nbsp\;</DIV><DIV>The game starts at 11:00 a.m.\, so head over to the Jaycees Hall around 10:45 a.m. for a day of guaranteed fun!</DIV><DIV>&nbsp\;</DIV><DIV>$10 per person.</DIV><DIV>&nbsp\;</DIV><DIV>&nbsp\;</DIV><DIV>&nbsp\;</DIV>
LOCATION:Davenport Jaycees2940 Brady St. Davenport\, IA 52808
UID:e.2843.446
SEQUENCE:3
DTSTAMP:20260421T184102Z
URL:https://member.quadcitieschamber.com/events/details/the-network-special-event-random-acts-of-tailgating-with-the-davenport-jaycees-10-13-2012-446
END:VEVENT

END:VCALENDAR
