BEGIN:VCALENDAR
VERSION:2.0
PRODID:-//ChamberMaster//Event Calendar 2.0//EN
METHOD:PUBLISH
X-PUBLISHED-TTL:P3D
REFRESH-INTERVAL:P3D
CALSCALE:GREGORIAN
BEGIN:VEVENT
DTSTART:20140101T060000Z
DTEND:20140101T060000Z
X-MICROSOFT-CDO-ALLDAYEVENT:FALSE
SUMMARY:The Network: Young Professionals of the Quad Cities
DESCRIPTION:The Network: Young Professionals of the Quad Cities
X-ALT-DESC;FMTTYPE=text/html:The Network: Young Professionals of the Quad Cities
LOCATION:
UID:e.2843.1967
SEQUENCE:3
DTSTAMP:20260422T013511Z
URL:https://member.quadcitieschamber.com/events/details/the-network-young-professionals-of-the-quad-cities-01-01-2014-1967
END:VEVENT

END:VCALENDAR
