BEGIN:VCALENDAR
VERSION:2.0
PRODID:-//ChamberMaster//Event Calendar 2.0//EN
METHOD:PUBLISH
X-PUBLISHED-TTL:P3D
REFRESH-INTERVAL:P3D
CALSCALE:GREGORIAN
BEGIN:VEVENT
DTSTART:20120612T210000Z
DTEND:20120612T213000Z
X-MICROSOFT-CDO-ALLDAYEVENT:FALSE
SUMMARY:The Outing Club Ribbon Cutting
DESCRIPTION:Please help The Outing Club celebrate 121 years and the new state-of-the-art wellness center\, as well as an expansion project to the already existing pool on Tuesday\, June 12th at 4:00pm.  The Outing Club is located at 2109 Brady Street\, across the street from St. Paul Lutheran Church. You can visit the website at www.theoutingclub.com.
X-ALT-DESC;FMTTYPE=text/html:<DIV style="FONT-FAMILY: Arial"><P style="MARGIN: 0in 0in 0pt" class=MsoNormal><SPAN style="FONT-FAMILY: 'Trebuchet MS'\,'sans-serif'\; FONT-SIZE: 9pt"><FONT face=Arial><FONT size=1>Please help The Outing Club celebrate 121 years and the new state-of-the-art wellness center\, as well as an expansion project to the already existing pool on Tuesday\, June 12<SUP>th</SUP> at 4:00pm.<SPAN style="mso-spacerun: yes">&nbsp\; </SPAN>The Outing Club is located at 2109 Brady Street\, across the street from St. Paul Lutheran Church.<?xml:namespace prefix = o ns = "urn:schemas-microsoft-com:office:office" /><o:p></o:p></FONT></FONT></SPAN></P><P style="MARGIN: 0in 0in 0pt" class=MsoNormal><SPAN style="FONT-FAMILY: 'Trebuchet MS'\,'sans-serif'\; FONT-SIZE: 9pt"><o:p><FONT size=1 face=Arial>&nbsp\;</FONT></o:p></SPAN></P><P style="MARGIN: 0in 0in 0pt" class=MsoNormal><SPAN style="FONT-FAMILY: 'Trebuchet MS'\,'sans-serif'\; FONT-SIZE: 9pt"><FONT size=1 face=Arial>You can visit the website at </FONT><A href="http://www.theoutingclub.com"><FONT size=1 face=Arial>www.theoutingclub.com</FONT></A><FONT size=1 face=Arial>.</FONT></SPAN></P><P style="MARGIN: 0in 0in 0pt" class=MsoNormal><SPAN style="FONT-FAMILY: 'Trebuchet MS'\,'sans-serif'\; FONT-SIZE: 9pt"></SPAN>&nbsp\;</P><P style="MARGIN: 0in 0in 0pt" class=MsoNormal><SPAN style="FONT-FAMILY: 'Trebuchet MS'\,'sans-serif'\; FONT-SIZE: 9pt"><o:p><SPAN style="FONT-FAMILY: 'Calibri'\,'sans-serif'\; FONT-SIZE: 11pt\; mso-fareast-font-family: 'Times New Roman'\; mso-bidi-font-family: 'Times New Roman'\; mso-ansi-language: EN-US\; mso-fareast-language: EN-US\; mso-bidi-language: AR-SA"><?xml:namespace prefix = v ns = "urn:schemas-microsoft-com:vml" /><v:shapetype id=_x0000_t75 coordsize="21600\,21600" o:spt="75" o:preferrelative="t" path="m@4@5l@4@11@9@11@9@5xe" filled="f" stroked="f">&nbsp\;<v:stroke joinstyle="miter"></v:stroke><v:formulas><v:f eqn="if lineDrawn pixelLineWidth 0"></v:f><v:f eqn="sum @0 1 0"></v:f><v:f eqn="sum 0 0 @1"></v:f><v:f eqn="prod @2 1 2"></v:f><v:f eqn="prod @3 21600 pixelWidth"></v:f><v:f eqn="prod @3 21600 pixelHeight"></v:f><v:f eqn="sum @0 0 1"></v:f><v:f eqn="prod @6 1 2"></v:f><v:f eqn="prod @7 21600 pixelWidth"></v:f><v:f eqn="sum @8 21600 0"></v:f><v:f eqn="prod @7 21600 pixelHeight"></v:f><v:f eqn="sum @10 21600 0"></v:f></v:formulas><v:path o:extrusionok="f" gradientshapeok="t" o:connecttype="rect"></v:path><o:lock v:ext="edit" aspectratio="t"></o:lock></v:shapetype></SPAN></o:p></SPAN></P></DIV>
LOCATION:The Outing Club2109 Brady St. Davenport\, IA 52803
UID:e.2843.364
SEQUENCE:3
DTSTAMP:20260421T235056Z
URL:https://member.quadcitieschamber.com/events/details/the-outing-club-ribbon-cutting-06-12-2012-364
END:VEVENT

END:VCALENDAR
