BEGIN:VCALENDAR
VERSION:2.0
PRODID:-//ChamberMaster//Event Calendar 2.0//EN
METHOD:PUBLISH
X-PUBLISHED-TTL:P3D
REFRESH-INTERVAL:P3D
CALSCALE:GREGORIAN
BEGIN:VEVENT
DTSTART:20130530T203000Z
DTEND:20130530T210000Z
X-MICROSOFT-CDO-ALLDAYEVENT:FALSE
SUMMARY:The Planning Center\, Inc. Ribbon Cutting
DESCRIPTION:Please help The Planning Center\, Inc. celebrate their new location on Thursday\, May 30th at 3:30pm – Located at 1615 5th Avenue\, Moline (North side of 5th Avenue between 16th & 17th Streets). As a fee only financial planning firm\, The Planning Center\, Inc. provides objectivity and clarity in a complex financial world.  They provide comprehensive financial\, tax\, and investment planning. Please visit www.theplanningcenter.com for more information.
X-ALT-DESC;FMTTYPE=text/html:<P style="MARGIN: 0in 0in 0pt" class=MsoNormal><FONT face=Calibri>Please help The Planning Center\, Inc. celebrate their new location on <B style="mso-bidi-font-weight: normal">Thursday\, May 30<SUP>th</SUP> at 3:30pm</B> – Located at 1615 5<SUP>th</SUP> Avenue\, Moline (North side of 5<SUP>th</SUP> Avenue between 16<SUP>th</SUP> &amp\; 17<SUP>th</SUP> Streets).<?xml:namespace prefix = o ns = "urn:schemas-microsoft-com:office:office" /><o:p></o:p></FONT></P><P style="MARGIN: 0in 0in 0pt" class=MsoNormal><o:p><FONT face=Calibri>&nbsp\;</FONT></o:p></P><P style="MARGIN: 0in 0in 0pt" class=MsoNormal><FONT face=Calibri>As a fee only financial planning firm\, The Planning Center\, Inc. provides objectivity and clarity in a complex financial world.<SPAN style="mso-spacerun: yes">&nbsp\; </SPAN>They provide comprehensive financial\, tax\, and investment planning.<o:p></o:p></FONT></P><P style="MARGIN: 0in 0in 0pt" class=MsoNormal><o:p><FONT face=Calibri>&nbsp\;</FONT></o:p></P><P style="MARGIN: 0in 0in 0pt" class=MsoNormal><FONT face=Calibri>Please visit </FONT><A href="http://www.theplanningcenter.com">www.theplanningcenter.com</A><FONT face=Calibri> for more information.<o:p></o:p></FONT></P><DIV style="FONT-FAMILY: Arial">&nbsp\;</DIV>
LOCATION:The Planning Center1615 5th Avenue Moline\, IL 61265
UID:e.2843.585
SEQUENCE:3
DTSTAMP:20260421T134948Z
URL:https://member.quadcitieschamber.com/events/details/the-planning-center-inc-ribbon-cutting-05-30-2013-585
END:VEVENT

END:VCALENDAR
