BEGIN:VCALENDAR
VERSION:2.0
PRODID:-//ChamberMaster//Event Calendar 2.0//EN
METHOD:PUBLISH
X-PUBLISHED-TTL:P3D
REFRESH-INTERVAL:P3D
CALSCALE:GREGORIAN
BEGIN:VEVENT
DTSTART:20120629T163000Z
DTEND:20120629T170000Z
X-MICROSOFT-CDO-ALLDAYEVENT:FALSE
SUMMARY:The Putnam Museum News Conference
DESCRIPTION:The Putnam Museum among the first in the world!\nWHAT: News Conference\, announcing the new name and brand affiliation for the Theater\nWHEN: 11:30 a.m.\nWHERE: Putnam Museum\, 1717 West 12th Street\, Davenport\, IA\nPlease join us for a GIANT announcement! On June 29 the Putnam will reveal the new affiliation with a highly respected organization and their world-renown brand. The Putnam will be among the first Giant Screen Theaters in the world to launch this relationship that promises to attract people to the Quad Cities from around our region.News conference will include comments from Kim Findlay\, CEO of the Putnam Museum\, Mike Thoms\, Putnam Trustee and Chair of the Putnam Public Offerings Committee\, Charlotte Doehler-Morrison\, VP of Marketing & Communications of the Quad Cities Convention & Visitors Bureau and special guest speakers representing the new relationship.There will be a fabulous photo opportunity as we unveil the new Theater sign in the Grand Lobby\, as well as individual interviews after the news conference. \nLive remotes are welcome please include this in your RSVP!\nRSVP to Jenna Smith\, smith@putnam.org or 563-324-1054 ext. 258.You do not want to miss this GIANT announcement!
X-ALT-DESC;FMTTYPE=text/html:<DIV style="FONT-FAMILY: Arial">The Putnam Museum among the first in the world!</DIV><DIV style="FONT-FAMILY: Arial"><BR>WHAT: News Conference\, announcing the new name and brand affiliation for the Theater<BR>WHEN: 11:30 a.m.<BR>WHERE: Putnam Museum\, 1717 West 12th Street\, Davenport\, IA</DIV><DIV style="FONT-FAMILY: Arial"><BR>Please join us for a GIANT announcement! On June 29 the Putnam will reveal the new affiliation with a highly respected organization and their world-renown brand. The Putnam will be among the first Giant Screen Theaters in the world to launch this relationship that promises to attract people to the Quad Cities from around our region.</DIV><DIV style="FONT-FAMILY: Arial">News conference will include comments from Kim Findlay\, CEO of the Putnam Museum\, Mike Thoms\, Putnam Trustee and Chair of the Putnam Public Offerings Committee\, Charlotte Doehler-Morrison\, VP of Marketing &amp\; Communications of the Quad Cities Convention &amp\; Visitors Bureau and special guest speakers representing the new relationship.</DIV><DIV style="FONT-FAMILY: Arial">There will be a fabulous photo opportunity as we unveil the new Theater sign in the Grand Lobby\, as well as individual interviews after the news conference. <BR>Live remotes are welcome please include this in your RSVP!<BR>RSVP to Jenna Smith\, <A href="mailto:smith@putnam.org">smith@putnam.org</A> or 563-324-1054 ext. 258.</DIV><DIV style="FONT-FAMILY: Arial">You do not want to miss this GIANT announcement!<BR></DIV>
LOCATION:Putnam Museum1717 W 12th Street Davenport\, IA 52804
UID:e.2843.399
SEQUENCE:3
DTSTAMP:20260421T235330Z
URL:https://member.quadcitieschamber.com/events/details/the-putnam-museum-news-conference-06-29-2012-399
END:VEVENT

END:VCALENDAR
