BEGIN:VCALENDAR
VERSION:2.0
PRODID:-//ChamberMaster//Event Calendar 2.0//EN
METHOD:PUBLISH
X-PUBLISHED-TTL:P3D
REFRESH-INTERVAL:P3D
CALSCALE:GREGORIAN
BEGIN:VEVENT
DTSTART:20171111T010000Z
DTEND:20171111T060000Z
X-MICROSOFT-CDO-ALLDAYEVENT:FALSE
SUMMARY:The Renwick Mansion Presents Tomfoolery on Tremont
DESCRIPTION:Join Chris Schlicting\, Donny Townsend and others for an evening of buffoonery and drinks at the historic Renwick Mansion!
X-ALT-DESC;FMTTYPE=text/html:<span style="background-color:rgb(255\, 255\, 255)\; color:rgb(75\, 79\, 86)\; font-family:helvetica\,arial\,sans-serif\; font-size:14px">Join Chris Schlicting\, Donny Townsend and others for an evening of buffoonery and drinks at the historic Renwick Mansion!</span>
LOCATION:901 Tremont Avenue in Davenport
UID:e.2843.8647
SEQUENCE:3
DTSTAMP:20260423T195213Z
URL:https://member.quadcitieschamber.com/events/details/the-renwick-mansion-presents-tomfoolery-on-tremont-8647
END:VEVENT

END:VCALENDAR
