BEGIN:VCALENDAR
VERSION:2.0
PRODID:-//ChamberMaster//Event Calendar 2.0//EN
METHOD:PUBLISH
X-PUBLISHED-TTL:P3D
REFRESH-INTERVAL:P3D
CALSCALE:GREGORIAN
BEGIN:VEVENT
DTSTART:20140617T213000Z
DTEND:20140617T223000Z
X-MICROSOFT-CDO-ALLDAYEVENT:FALSE
SUMMARY:The Spa at Hotel Blackhawk Ribbon Cutting
DESCRIPTION:The Hotel Blackhawk\, 200 E. 3rd St. Davenport\, IA 52801\, will host a ribbon cutting ceremony on Tuesday\, June 17th at 4:30pm to celebrate the opening of two new businesses\; The Spa at Hotel Blackhawk and Relish Gifts at Hotel Blackhawk.  http://mapq.st/1nBd6iN.  The Spa at Hotel Blackhawk will feature massages\, facials and body treatments.  In addition\, barbershop services are available.  Relish Gifts at Hotel Blackhawk will offer a variety of unique gifts\, wines\, food\, and more. For more information\, please visit www.hotelblackhawk.com.
X-ALT-DESC;FMTTYPE=text/html:<FONT face=Calibri><P style="MARGIN: 0in 0in 0pt" class=MsoNormal></P><P></FONT></P><FONT face=Calibri><P style="MARGIN: 0in 0in 0pt" class=MsoNormal>The Hotel Blackhawk\, 200 E. 3<SUP>rd</SUP> St. Davenport\, IA 52801\, will host a ribbon cutting ceremony on Tuesday\, June 17<SUP>th</SUP> at 4:30pm to celebrate the opening of two new businesses\; The Spa at Hotel Blackhawk and Relish Gifts at Hotel Blackhawk.<SPAN style="mso-spacerun: yes">&nbsp\; </SPAN><A href="http://mapq.st/1nBd6iN"><FONT color=#0000ff face="Times New Roman">http://mapq.st/1nBd6iN</FONT></A>. <?xml:namespace prefix = o ns = "urn:schemas-microsoft-com:office:office" /><o:p></o:p></P><P style="MARGIN: 0in 0in 0pt" class=MsoNormal><o:p>&nbsp\;</o:p></P><P style="MARGIN: 0in 0in 0pt" class=MsoNormal>The Spa at Hotel Blackhawk will feature massages\, facials and body treatments.<SPAN style="mso-spacerun: yes">&nbsp\; </SPAN>In addition\, barbershop services are available.<SPAN style="mso-spacerun: yes">&nbsp\; </SPAN>Relish Gifts at Hotel Blackhawk will offer a variety of unique gifts\, wines\, food\, and more. For more information\, please visit <A href="http://www.hotelblackhawk.com"><FONT color=#0000ff face="Times New Roman">www.hotelblackhawk.com</FONT></A>.<SPAN style="mso-spacerun: yes">&nbsp\; </SPAN><o:p></o:p></P>&nbsp\;<P></P></FONT>
LOCATION:Hotel Blackhawk200 E. 3rd St. Davenport\, IA 52801
UID:e.2843.811
SEQUENCE:3
DTSTAMP:20260422T111446Z
URL:https://member.quadcitieschamber.com/events/details/the-spa-at-hotel-blackhawk-ribbon-cutting-06-17-2014-811
END:VEVENT

END:VCALENDAR
