BEGIN:VCALENDAR
VERSION:2.0
PRODID:-//ChamberMaster//Event Calendar 2.0//EN
METHOD:PUBLISH
X-PUBLISHED-TTL:P3D
REFRESH-INTERVAL:P3D
CALSCALE:GREGORIAN
BEGIN:VEVENT
DTSTART:20130319T200000Z
DTEND:20130319T203000Z
X-MICROSOFT-CDO-ALLDAYEVENT:FALSE
SUMMARY:The Villas at Black Hawk Ground Breaking & Ribbon Cutting
DESCRIPTION:Please help celebrate the Ground Breaking for The Villas at Black Hawk located at 6600 34th Avenue\, Moline (Parking Lot 4) on Tuesday\, March 19th at 3:00pm.  The site is located in East Moline on  the Black Hawk College campus across of 34th Avenue\, North of building 1 - the North end of Parking Lot 4.  A reception is to follow at the Hawk’s Nest\, Black Hawk College Building 4.   The Villas at Black Hawk is student housing provided by a Public-Private Partnership between the Villas at Black Hawk College. For more information\, visit www.LiveatBHC.com.
X-ALT-DESC;FMTTYPE=text/html:<P style="MARGIN: 0in 0in 0pt" class=MsoNormal><FONT face=Calibri><SPAN style="mso-ascii-font-family: Calibri\; mso-hansi-font-family: Calibri">Please help celebrate the Ground Breaking for The Villas at Black Hawk located at 6600 34<SUP>th</SUP> Avenue\, Moline (Parking Lot 4) on <B style="mso-bidi-font-weight: normal">Tuesday\, March 19<SUP>th</SUP> at 3:00pm</B>.<SPAN style="mso-spacerun: yes">&nbsp\; </SPAN>The site is located in </SPAN>East Moline on <SPAN style="mso-spacerun: yes">&nbsp\;</SPAN>the Black Hawk College campus across of 34th Avenue\, North of building 1 - the North end of Parking Lot 4.<SPAN style="mso-spacerun: yes">&nbsp\; </SPAN><SPAN style="mso-ascii-font-family: Calibri\; mso-hansi-font-family: Calibri">A reception is to follow at the Hawk’s Nest\, Black Hawk College Building 4.<SPAN style="mso-spacerun: yes">&nbsp\; </SPAN><?xml:namespace prefix = o ns = "urn:schemas-microsoft-com:office:office" /><o:p></o:p></SPAN></FONT></P><P style="MARGIN: 0in 0in 0pt" class=MsoNormal><SPAN style="mso-ascii-font-family: Calibri\; mso-hansi-font-family: Calibri"><o:p><FONT face=Calibri>&nbsp\;</FONT></o:p></SPAN></P><P style="MARGIN: 0in 0in 0pt" class=MsoNormal><SPAN style="mso-ascii-font-family: Calibri\; mso-hansi-font-family: Calibri"><FONT face=Calibri>The Villas at Black Hawk is student housing provided by a Public-Private Partnership between the Villas at Black Hawk College.<o:p></o:p></FONT></SPAN></P><P style="MARGIN: 0in 0in 0pt" class=MsoNormal><SPAN style="mso-ascii-font-family: Calibri\; mso-hansi-font-family: Calibri"><o:p><FONT face=Calibri>&nbsp\;</FONT></o:p></SPAN></P><P style="MARGIN: 0in 0in 0pt" class=MsoNormal><SPAN style="mso-ascii-font-family: Calibri\; mso-hansi-font-family: Calibri"><FONT face=Calibri>For more information\, visit </FONT><A href="http://www.LiveatBHC.com"><FONT face=Calibri>www.LiveatBHC.com</FONT></A><FONT face=Calibri>.<o:p></o:p></FONT></SPAN></P><DIV style="FONT-FAMILY: Arial"><FONT face="Times New Roman"><SPAN style="FONT-FAMILY: 'Calibri'\,'sans-serif'\; FONT-SIZE: 11pt\; mso-fareast-font-family: Calibri\; mso-fareast-theme-font: minor-latin\; mso-bidi-font-family: 'Times New Roman'\; mso-bidi-theme-font: minor-bidi\; mso-ansi-language: EN-US\; mso-fareast-language: EN-US\; mso-bidi-language: AR-SA"><?xml:namespace prefix = v ns = "urn:schemas-microsoft-com:vml" /><v:shapetype id=_x0000_t75 coordsize="21600\,21600" o:spt="75" o:preferrelative="t" path="m@4@5l@4@11@9@11@9@5xe" filled="f" stroked="f">&nbsp\;<v:stroke joinstyle="miter"></v:stroke><v:formulas><v:f eqn="if lineDrawn pixelLineWidth 0"></v:f><v:f eqn="sum @0 1 0"></v:f><v:f eqn="sum 0 0 @1"></v:f><v:f eqn="prod @2 1 2"></v:f><v:f eqn="prod @3 21600 pixelWidth"></v:f><v:f eqn="prod @3 21600 pixelHeight"></v:f><v:f eqn="sum @0 0 1"></v:f><v:f eqn="prod @6 1 2"></v:f><v:f eqn="prod @7 21600 pixelWidth"></v:f><v:f eqn="sum @8 21600 0"></v:f><v:f eqn="prod @7 21600 pixelHeight"></v:f><v:f eqn="sum @10 21600 0"></v:f></v:formulas><v:path o:extrusionok="f" gradientshapeok="t" o:connecttype="rect"></v:path><o:lock v:ext="edit" aspectratio="t"></o:lock></v:shapetype><v:shape style="WIDTH: 1in\; HEIGHT: 56.25pt" id=_x0000_i1025 type="#_x0000_t75" o:ole=""><v:imagedata src="file:///C:\\DOCUME~1\\kpence\\LOCALS~1\\Temp\\msohtmlclip1\\01\\clip_image001.wmz" o:title=""></v:imagedata></v:shape></SPAN></FONT></DIV>
LOCATION:The VIllas at Black Hawk6600 34th Avenue Moline\, IL 61265
UID:e.2843.538
SEQUENCE:3
DTSTAMP:20260421T091616Z
URL:https://member.quadcitieschamber.com/events/details/the-villas-at-black-hawk-ground-breaking-ribbon-cutting-03-19-2013-538
END:VEVENT

END:VCALENDAR
