BEGIN:VCALENDAR
VERSION:2.0
PRODID:-//ChamberMaster//Event Calendar 2.0//EN
METHOD:PUBLISH
X-PUBLISHED-TTL:P3D
REFRESH-INTERVAL:P3D
CALSCALE:GREGORIAN
BEGIN:VEVENT
DTSTART:20180504T140000Z
DTEND:20180504T160000Z
X-MICROSOFT-CDO-ALLDAYEVENT:FALSE
SUMMARY:The Vision Workshop - 3 Keys to Accelerating Your Results
DESCRIPTION:Do you want to discover your true dream or purpose?\n	Would you like to eliminate fear\, doubt\, and worry and move toward your goals with confidence?\n	Do you want to achieve greater results with less effort?\n\nYou will learn:\n\n\n	Two essential keys for tuning into your purpose.\n	A 5-point test for determining whether your dream is right for you.\n	Simple thinking strategies that will guard you from fear\, doubt\, and worry.\n	What wealthy people do that creates sustained success.\n	The number one factor that causes people to lose steam when going after a dream\, and how to stay motived and override it.\n	A proven methodology for dissolving resistance you may have to prosperity so you can attract higher levels of results and abundance.\n\n  And much more!!!
X-ALT-DESC;FMTTYPE=text/html:<ul>\n	<li><span style="font-size:18px\;"><span style="font-family:arial\;"><strong><em>Do you want to discover your true dream or purpose?</em></strong></span></span></li>\n	<li><span style="font-size:18px\;"><span style="font-family:arial\;"><strong><em>Would you like to eliminate fear\, doubt\, and worry and move toward your goals with confidence?</em></strong></span></span></li>\n	<li><span style="font-size:18px\;"><span style="font-family:arial\;"><strong><em>Do you want to achieve greater results with less effort?</em></strong></span></span></li>\n</ul>\n<u><span style="font-size:16px\;"><span style="font-family:arial\;"><strong>You will learn:</strong></span></span></u>\n\n<ul>\n	<li><span style="font-size:14px\;"><span style="font-family:arial\;"><strong>Two essential keys for tuning into your purpose.</strong></span></span></li>\n	<li><span style="font-size:14px\;"><span style="font-family:arial\;"><strong>A 5-point test for determining whether your dream is right for you.</strong></span></span></li>\n	<li><span style="font-size:14px\;"><span style="font-family:arial\;"><strong>Simple thinking strategies that will guard you from fear\, doubt\, and worry.</strong></span></span></li>\n	<li><span style="font-size:14px\;"><span style="font-family:arial\;"><strong>What wealthy people do that creates sustained success.</strong></span></span></li>\n	<li><span style="font-size:14px\;"><span style="font-family:arial\;"><strong>The number one factor that causes people to lose steam when going after a dream\, and how to stay motived and override it.</strong></span></span></li>\n	<li><span style="font-size:14px\;"><span style="font-family:arial\;"><strong>A proven methodology for dissolving resistance you may have to prosperity so you can attract higher levels of results and abundance.</strong></span></span></li>\n</ul>\n<span style="font-size:14px\;"> <span style="font-family:arial\;"> <strong>And much more!!!</strong></span></span><br />\n&nbsp\;&nbsp\;&nbsp\;&nbsp\;<br />\n&nbsp\;
LOCATION:CoWorkQC
UID:e.2843.13189
SEQUENCE:3
DTSTAMP:20260423T105904Z
URL:https://member.quadcitieschamber.com/events/details/the-vision-workshop-3-keys-to-accelerating-your-results-13189
END:VEVENT

END:VCALENDAR
