BEGIN:VCALENDAR
VERSION:2.0
PRODID:-//ChamberMaster//Event Calendar 2.0//EN
METHOD:PUBLISH
X-PUBLISHED-TTL:P3D
REFRESH-INTERVAL:P3D
CALSCALE:GREGORIAN
BEGIN:VEVENT
DTSTART:20131031T180000Z
DTEND:20131031T183000Z
X-MICROSOFT-CDO-ALLDAYEVENT:FALSE
SUMMARY:The Waste Commission of Scott County Ribbon Cutting
DESCRIPTION:The Waste Commission of Scott County will host a ribbon cutting ceremony to celebrate the new Centennial Park Drop-off Recycling Center on Thursday\, October 31st at 1:00pm.  The ribbon cutting will take place at 202 S. Marquette St. Davenport\, IA 52802 (near Centennial Park).  http://mapq.st/1igBktu.   The new drop-off location will be open 24 hours a day\, 7 days a week.  Paper\, cardboard\, plastics ( #1 and #2)\, glass and cans are all items that will accepted at the new drop-off location.   For more information please visit www.wastecom.com.
X-ALT-DESC;FMTTYPE=text/html:<FONT face=Calibri><P style="MARGIN: 0in 0in 0pt" class=MsoNormal>The Waste Commission of Scott County will host a ribbon cutting ceremony to celebrate the new Centennial Park Drop-off Recycling Center on Thursday\, October 31<SUP>st</SUP> at 1:00pm.<SPAN style="mso-spacerun: yes">&nbsp\; </SPAN>The ribbon cutting will take place at 202 S. Marquette St. Davenport\, IA 52802 (near Centennial Park).<SPAN style="mso-spacerun: yes">&nbsp\; </SPAN><A href="http://mapq.st/1igBktu"><FONT face="Times New Roman">http://mapq.st/1igBktu</FONT></A>.<SPAN style="mso-spacerun: yes">&nbsp\; </SPAN><?xml:namespace prefix = o ns = "urn:schemas-microsoft-com:office:office" /><o:p></o:p></P><P style="MARGIN: 0in 0in 0pt" class=MsoNormal><o:p>&nbsp\;</o:p></P><P style="MARGIN: 0in 0in 0pt" class=MsoNormal>The new drop-off location will be open 24 hours a day\, 7 days a week.<SPAN style="mso-spacerun: yes">&nbsp\; </SPAN>Paper\, cardboard\, plastics ( #1 and #2)\, glass and cans are all items that will accepted at the new drop-off location.<SPAN style="mso-spacerun: yes">&nbsp\; </SPAN><o:p></o:p></P><P style="MARGIN: 0in 0in 0pt" class=MsoNormal><o:p>&nbsp\;</o:p></P><P style="MARGIN: 0in 0in 0pt" class=MsoNormal>For more information please visit <A href="http://www.wastecom.com"><FONT face="Times New Roman">www.wastecom.com</FONT></A>.<o:p></o:p></P><P></FONT>&nbsp\;</P>
LOCATION:Waste Commission of Scott County5640 Carey Avenue Davenport\, IA 52807
UID:e.2843.738
SEQUENCE:3
DTSTAMP:20260421T202503Z
URL:https://member.quadcitieschamber.com/events/details/the-waste-commission-of-scott-county-ribbon-cutting-10-31-2013-738
END:VEVENT

END:VCALENDAR
