BEGIN:VCALENDAR
VERSION:2.0
PRODID:-//ChamberMaster//Event Calendar 2.0//EN
METHOD:PUBLISH
X-PUBLISHED-TTL:P3D
REFRESH-INTERVAL:P3D
CALSCALE:GREGORIAN
BEGIN:VEVENT
DTSTART:20180513T190000Z
DTEND:20180513T200000Z
X-MICROSOFT-CDO-ALLDAYEVENT:FALSE
SUMMARY:The Works of Mathilde F. Anneke
DESCRIPTION:Dr. Viktorija Bilic presents on her work translating the personal correspondence of German American Suffragist Mathilde F. Anneke! Learn about the revolutionary socialist who dedicated her life to the dissemination of knowledge through her writing\, newspapers\, and school. Presentation on May 13th at 2PM at the German American Heritage Center.
X-ALT-DESC;FMTTYPE=text/html:Dr. Viktorija Bilic presents on her work translating the personal correspondence of German American Suffragist Mathilde F. Anneke! Learn about the revolutionary socialist who dedicated her life to the dissemination of knowledge through her writing\, newspapers\, and school. Presentation on May 13th at 2PM at the German American Heritage Center.
LOCATION:712 W. 2nd St. Davenport\, Ia 52802
UID:e.2843.13153
SEQUENCE:3
DTSTAMP:20260423T110058Z
URL:https://member.quadcitieschamber.com/events/details/the-works-of-mathilde-f-anneke-13153
END:VEVENT

END:VCALENDAR
