BEGIN:VCALENDAR
VERSION:2.0
PRODID:-//ChamberMaster//Event Calendar 2.0//EN
METHOD:PUBLISH
X-PUBLISHED-TTL:P3D
REFRESH-INTERVAL:P3D
CALSCALE:GREGORIAN
BEGIN:VEVENT
DTSTART:20080701T050000Z
DTEND:20090630T050000Z
X-MICROSOFT-CDO-ALLDAYEVENT:FALSE
SUMMARY:Toast & Topics 2008-09
DESCRIPTION:Toast & Topics 2008-09
X-ALT-DESC;FMTTYPE=text/html:Toast & Topics 2008-09
LOCATION:
UID:e.2843.4122
SEQUENCE:3
DTSTAMP:20260424T073627Z
URL:https://member.quadcitieschamber.com/events/details/toast-topics-2008-09-07-01-2008-4122
END:VEVENT

END:VCALENDAR
