BEGIN:VCALENDAR
VERSION:2.0
PRODID:-//ChamberMaster//Event Calendar 2.0//EN
METHOD:PUBLISH
X-PUBLISHED-TTL:P3D
REFRESH-INTERVAL:P3D
CALSCALE:GREGORIAN
BEGIN:VEVENT
DTSTART;VALUE=DATE:20191126
DTEND;VALUE=DATE:20191127
TRANSP:TRANSPARENT
X-MICROSOFT-CDO-ALLDAYEVENT:TRUE
SUMMARY:Todder Time Tuesdays at Elevate Trampoline Park
DESCRIPTION:Tuesdays just got even more exciting here at Elevate! We are very excited to introduce Toddler Twosday!\n\n\n\n Children ages 7 and under jump for just $7 for 2 hours!?One Parent (or guardian) can jump for FREE with each paying child. Bring your Elevate grip socks or buy them here for $2 (mandatory to jump).\n\n\n\n Each Tuesday we will be adding in 2 fun activities for our little ones! Join us for a new Storytime and fun craft each week!\n\n Story time starts at 10:30 am & craft time will be at 11:30 am\n\n\n\nDid your toddler work up an appetite while they were jumping? We have you covered! Add on our Toddler Time lunch special for only $3.99.???
X-ALT-DESC;FMTTYPE=text/html:<div>Tuesdays just got even more exciting here at Elevate! We are very excited to introduce Toddler Twosday!<br />\n<br />\n&nbsp\;Children ages 7 and under jump for just $7 for 2 hours!?One Parent (or guardian) can jump for FREE with each paying child. Bring your Elevate grip socks or buy them here for $2 (mandatory to jump).<br />\n<br />\n&nbsp\;Each Tuesday we will be adding in 2 fun activities for our little ones! Join us for a new Storytime and fun craft each week!<br />\n&nbsp\;Story time starts at 10:30 am &amp\; craft time will be at 11:30 am<br />\n<br />\nDid your toddler work up an appetite while they were jumping? We have you covered! Add on our Toddler Time lunch special for only $3.99.???</div>\n
LOCATION:1920 1st Ave E Milan\, IL 61264
UID:e.2843.17102
SEQUENCE:3
DTSTAMP:20260422T083044Z
URL:https://member.quadcitieschamber.com/events/details/todder-time-tuesdays-at-elevate-trampoline-park-17102
END:VEVENT

END:VCALENDAR
