BEGIN:VCALENDAR
VERSION:2.0
PRODID:-//ChamberMaster//Event Calendar 2.0//EN
METHOD:PUBLISH
X-PUBLISHED-TTL:P3D
REFRESH-INTERVAL:P3D
CALSCALE:GREGORIAN
BEGIN:VEVENT
DTSTART;VALUE=DATE:20130925
DTEND;VALUE=DATE:20131016
TRANSP:TRANSPARENT
X-MICROSOFT-CDO-ALLDAYEVENT:TRUE
SUMMARY:Tom's of Maine 50 States for Good
DESCRIPTION:Gilda's Club is the finalist for Iowa in the Tom's of Maine 50 States for Good contest. The states with the top 15 most votes will win $10\,000. If Gilda's Club wins\, an organic community garden will be planted for its members who have all been impacted by cancer. Visit www.50StatesforGood.com clickvote now then choose Iowa. You may vote once per day until October 15th.
X-ALT-DESC;FMTTYPE=text/html:Gilda's Club is the finalist for Iowa in the Tom's of Maine 50 States for Good contest. The states with the top 15 most votes will win $10\,000. If Gilda's Club wins\, an organic community garden will be planted for its members who have all been impacted by cancer. Visit www.50StatesforGood.com clickvote now then choose Iowa. You may vote once per day until October 15th.
LOCATION:
UID:e.2843.54
SEQUENCE:3
DTSTAMP:20260421T184646Z
URL:https://member.quadcitieschamber.com/events/details/tom-s-of-maine-50-states-for-good-09-25-2013-54
END:VEVENT

END:VCALENDAR
