BEGIN:VCALENDAR
VERSION:2.0
PRODID:-//ChamberMaster//Event Calendar 2.0//EN
METHOD:PUBLISH
X-PUBLISHED-TTL:P3D
REFRESH-INTERVAL:P3D
CALSCALE:GREGORIAN
BEGIN:VEVENT
DTSTART:20181110T020000Z
DTEND:20181110T070000Z
X-MICROSOFT-CDO-ALLDAYEVENT:FALSE
SUMMARY:Tomfoolery On Tremont 11
DESCRIPTION:Comedian\, writer\, and actor based in LA\, Michael Palascak's done stand-up on The Late Show with Stephen Colbert\, The Late Late Show with James Corden\, CONAN\, Comedy Central's HALF HOUR and was a top 5 finalist on the most recent season of LAST COMIC STANDING and he's coming to THE RENWICK MANSION in the QUAD CITIES! Don't miss your chance to see Michael Palascak\, special guest comics\, and your emcee Chris Schlichting on Friday\, November 9th\, at 8pm! $7 in advance\, $10 at the door. Happy hour with 2 for 1's from 7-8pm! Tickets are limited!\n\nhttps://www.eventbrite.com/e/tomfoolery-on-tremont-11-tickets-51822489461
X-ALT-DESC;FMTTYPE=text/html:<div>\n<div><span style="font-family:inherit">Comedian\, writer\, and actor based in LA\, Michael Palascak&#39\;s done stand-up on The Late Show with Stephen Colbert\, The Late Late Show with James Corden\, CONAN\, Comedy Central&#39\;s HALF HOUR and was a top 5 finalist on the most recent season of LAST COMIC STANDING and he&#39\;s coming to THE RENWICK MANSION in the QUAD CITIES! Don&#39\;t miss your chance to see Michael Palascak\, special guest comics\, and your emcee Chris Schlichting on Friday\, November 9th\, at 8pm! $7 in advance\, $10 at the door. Happy hour with 2 for 1&#39\;s from 7-8pm! Tickets are limited!</span></div>\n\n<div>https://www.eventbrite.com/e/tomfoolery-on-tremont-11-tickets-51822489461</div>\n</div>\n
LOCATION:The Renwick Mansion 901 Tremont Avenue Davenport\, IA 52803
UID:e.2843.13533
SEQUENCE:3
DTSTAMP:20260423T012221Z
URL:https://member.quadcitieschamber.com/events/details/tomfoolery-on-tremont-11-13533
END:VEVENT

END:VCALENDAR
