BEGIN:VCALENDAR
VERSION:2.0
PRODID:-//ChamberMaster//Event Calendar 2.0//EN
METHOD:PUBLISH
X-PUBLISHED-TTL:P3D
REFRESH-INTERVAL:P3D
CALSCALE:GREGORIAN
BEGIN:VEVENT
DTSTART:20181209T020000Z
DTEND:20181209T080000Z
X-MICROSOFT-CDO-ALLDAYEVENT:FALSE
SUMMARY:Tomfoolery On Tremont 12
DESCRIPTION:Tomfoolery On Tremont comedy\, Saturday\, December 8th at 8pm. Happy hour 2 for 1's from 7-8pm. We have a stacked line-up of comedians\, featuring Joe Roderick: One of the the most underrated and most unique comics working today. Joe has performed at the Great American Comedy Festival\, hosted the stand up chronicles which was consistently in the top 10 of stand up podcasts on iTunes. He has also worked on Brooklyn 99 and This is Us.
X-ALT-DESC;FMTTYPE=text/html:<span style="background-color:rgb(255\, 255\, 255)\; color:rgb(29\, 33\, 41)\; font-family:helvetica\,arial\,sans-serif\; font-size:14px">Tomfoolery On Tremont comedy\, Saturday\, December 8th at 8pm. Happy hour 2 for 1&rsquo\;s from 7-8pm. We have a stacked line-up of comedians\, featuring Joe Roderick: One of the the most underrated and most unique comics working today. Joe has performed at the Great American Comedy Festival\, hosted the stand up chronicles which was consistently in the top 10 of stand up podcasts on iTunes. He has also worked on Brooklyn 99 and This is Us.</span>
LOCATION:The Renwick Mansion 901 Tremont Avenue Davenport\, IA 52803
UID:e.2843.13579
SEQUENCE:3
DTSTAMP:20260422T233942Z
URL:https://member.quadcitieschamber.com/events/details/tomfoolery-on-tremont-12-13579
END:VEVENT

END:VCALENDAR
