BEGIN:VCALENDAR
VERSION:2.0
PRODID:-//ChamberMaster//Event Calendar 2.0//EN
METHOD:PUBLISH
X-PUBLISHED-TTL:P3D
REFRESH-INTERVAL:P3D
CALSCALE:GREGORIAN
BEGIN:VEVENT
DTSTART:20181215T020000Z
DTEND:20181215T080000Z
X-MICROSOFT-CDO-ALLDAYEVENT:FALSE
SUMMARY:Tomfoolery On Tremont 13
DESCRIPTION:Featuring Tomfoolery On Tremont originator\, Chris Schlicting\, along with a stacked line-up of special guests. 7-8pm Happy Hour with 2 for 1 drinks. Stay after to meet the comedians!\n\n\n\nGrowing up on the mean streets of Iowa\, Chris Schlichting knew that he either had to take up standup comedy or join the notorious Midwest gang known as "The Farmers." He is quickly gaining a reputation as one of the best comics on the planet\, and by "planet" we mean "his street." Described as "hilarious" by his mom\, and "not good at sports" by his dad\, Chris takes pride in his immature and lovable style.
X-ALT-DESC;FMTTYPE=text/html:<span style="background-color:rgb(255\, 255\, 255)\; color:rgb(29\, 33\, 41)\; font-family:helvetica\,arial\,sans-serif\; font-size:14px">Featuring Tomfoolery On Tremont originator\, Chris Schlicting\, along with a stacked line-up of special guests. 7-8pm Happy Hour with 2 for 1 drinks. Stay after to meet the comedians!</span><br />\n<br />\n<span style="background-color:rgb(255\, 255\, 255)\; color:rgb(29\, 33\, 41)\; font-family:helvetica\,arial\,sans-serif\; font-size:14px">Growing up on the mean streets of Iowa\, Chris Schlichting knew that he either had to take up standup comedy or join the notorious Midwest gang known as &ldquo\;The Farmers.&rdquo\; He is quickly gaining a reputation as one of the best comics on the planet\, and by &ldquo\;planet&rdquo\; we mean &ldquo\;his street.&rdquo\; Described as &ldquo\;hilarious&rdquo\; by his mom\, and &ldquo\;not good at sports&rdquo\; by his dad\, Chris takes pride in his immature and lovable style.</span>
LOCATION:The Renwick Mansion 901 Tremont Avenue Davenport\, IA 52803
UID:e.2843.13580
SEQUENCE:3
DTSTAMP:20260423T012303Z
URL:https://member.quadcitieschamber.com/events/details/tomfoolery-on-tremont-13-13580
END:VEVENT

END:VCALENDAR
