BEGIN:VCALENDAR
VERSION:2.0
PRODID:-//ChamberMaster//Event Calendar 2.0//EN
METHOD:PUBLISH
X-PUBLISHED-TTL:P3D
REFRESH-INTERVAL:P3D
CALSCALE:GREGORIAN
BEGIN:VEVENT
DTSTART:20190106T020000Z
DTEND:20190106T080000Z
X-MICROSOFT-CDO-ALLDAYEVENT:FALSE
SUMMARY:Tomfoolery On Tremont 14
DESCRIPTION:Featuring Nate Craig\, along with a stacked line-up of special guests.7-8pm Happy Hour with 2 for 1 drinks. Stay after to meet the comedians!\n\n\n\nA nationally touring headliner and regular at The Hollywood Improv\, The NY Comedy Cellar\, and Largo (LA) among others. Nate plays "Phil" in the Netflix series "Maniac" and was a cast member on TruTV's "World's Dumbest". He was recently featured on Season two of Comedy Central's "Roast Battle" and AXS Gotham Comedy Live. Nate has appearances on Comedy Central's Tosh.0 and "Mash-up"\, which he also wrote for. He's written for 3 seasons of "Ridiculousness" on MTV and his album Nate Craig "Eggshell" debuted in the Pandora "Comedy Spotlight" at Pandora.com.\n\n\n\nNate has been featured at the Bridgetown\, RIOT LA\, and HBO Las Vegas Comedy Festivals\, and has headlined the "Laugh Your Asheville Off" and "San Francisco Comedy and Burrito Festivals". He's been on "You Made it Weird" with Pete Holmes\, has written for "A Prairie Home Companion" with Garrison Keillor\, and was featured on the "Best of the Bob & Tom Radio Show". He does theater tours with Bill Burr\, headlines all over the country and has multiple full length comedy albums available on iTunes and everywhere else.
X-ALT-DESC;FMTTYPE=text/html:<span style="background-color:rgb(255\, 255\, 255)\; color:rgb(29\, 33\, 41)\; font-family:helvetica\,arial\,sans-serif\; font-size:14px">Featuring Nate Craig\, along with a stacked line-up of special guests.7-8pm Happy Hour with 2 for 1 drinks. Stay after to meet the comedians!</span><br />\n<br />\n<span style="background-color:rgb(255\, 255\, 255)\; color:rgb(29\, 33\, 41)\; font-family:helvetica\,arial\,sans-serif\; font-size:14px">A nationally touring headliner and regular at The Hollywood Improv\, The NY Comedy Cellar\, and Largo (LA) among others. Nate plays &quot\;Phil&quot\; in the Netflix series &quot\;Maniac&quot\; and was a cast member on TruTV&#39\;s &quot\;World&#39\;s Dumbest&quot\;. He was recently featured on Season two of Comedy Central&#39\;s &quot\;Roast Battle&quot\; and AXS Gotham Comedy Live. Nate has appearances on Comedy Central&#39\;s Tosh.0 and &quot\;Mash-up&quot\;\, which he also wrote for. He&#39\;s written for 3 seasons of &quot\;Ridiculousness&quot\; on MTV and his album Nate Craig &quot\;Eggshell&quot\; debuted in the Pandora &quot\;Comedy Spotlight&quot\; at&nbsp\;</span><a href="https://l.facebook.com/l.php?u=http%3A%2F%2FPandora.com%2F%3Ffbclid%3DIwAR0yErra2SUlMsFF_c8P90q5TVA3I6ta9fybylqwzzDhCUpVRQm9k-0xByQ&amp\;h=AT2u8P99cqME5WIlY-XM_L_auqZFkEo1Yh3IF8ldrDO_8L59iH5nda3KCbQduZ4WooBcaxzC2CUS29OCX_vIL-4QKWGu-WfZnroLdBLjWxVHU2_73g9Va3uodgAJ_vqCnA" rel="nofollow noopener" style="color: rgb(54\, 88\, 153)\; cursor: pointer\; text-decoration-line: none\; font-family: Helvetica\, Arial\, sans-serif\; font-size: 14px\; background-color: rgb(255\, 255\, 255)\;" target="_blank">Pandora.com.</a><br />\n<br />\n<span style="background-color:rgb(255\, 255\, 255)\; color:rgb(29\, 33\, 41)\; font-family:helvetica\,arial\,sans-serif\; font-size:14px">Nate has been featured at the Bridgetown\, RIOT LA\, and HBO Las Vegas Comedy Festivals\, and has headlined the &quot\;Laugh Your Asheville Off&quot\; and &quot\;San Francisco Comedy and Burrito Festivals&quot\;. He&#39\;s been on &quot\;You Made it Weird&quot\; with Pete Holmes\, has written for &quot\;A Prairie Home Companion&quot\; with Garrison Keillor\, and was featured on the &quot\;Best of the Bob &amp\; Tom Radio Show&quot\;. He does theater tours with Bill Burr\, headlines all over the country and has multiple full length comedy albums available on iTunes and everywhere else.</span>
LOCATION:The Renwick Mansion 901 Tremont Avenue Davenport\, IA 52803
UID:e.2843.13581
SEQUENCE:3
DTSTAMP:20260422T233942Z
URL:https://member.quadcitieschamber.com/events/details/tomfoolery-on-tremont-14-13581
END:VEVENT

END:VCALENDAR
