BEGIN:VCALENDAR
VERSION:2.0
PRODID:-//ChamberMaster//Event Calendar 2.0//EN
METHOD:PUBLISH
X-PUBLISHED-TTL:P3D
REFRESH-INTERVAL:P3D
CALSCALE:GREGORIAN
BEGIN:VEVENT
DTSTART:20190121T020000Z
DTEND:20190121T080000Z
X-MICROSOFT-CDO-ALLDAYEVENT:FALSE
SUMMARY:Tomfoolery On Tremont 15
DESCRIPTION:Featuring Tommy Ryman\, along with a stacked line-up of special guests. 7-8pm Happy Hour with 2 for 1 drinks. Stay after to meet the comedians!\n\n\n\nTommy Ryman\, a semifinalist on NBC's Last Comic Standing\, is an acclaimed comedian. His oddly-adorable stand-up landed him No. 2 on iTunes comedy charts for his album Having the Time of My Life. Named Best of the Midwest at Gilda's Laugh Fest\, Tommy grew up in Minnesota jamming on clarinet for his new-age mom and kale-chip-making dad. He performs at top clubs\, colleges\, and festivals across the nation including the Great American Comedy Festival. Tommy was invited to be on Nickelodeon's NickMom Night Out and has a full comedy special on Dry Bar Comedy. He's worked alongside Nick Swardson\, Hannibal Buress\, Maria Bamford and Louie Anderson but none wear a cardigan quite like Tommy. Featured on Paste Magazine and regularly heard on SirusXM and iheartradio\, Tommy's act can be described as absurdist and clever masked behind an endearing\, innocent demeanor. A Last Comic Standing judge raved\, "I have never seen anything like [Tommy] before in my whole life\, [he is] one-of-a-kind\, fantastic!"
X-ALT-DESC;FMTTYPE=text/html:<span style="background-color:rgb(255\, 255\, 255)\; color:rgb(29\, 33\, 41)\; font-family:helvetica\,arial\,sans-serif\; font-size:14px">Featuring Tommy Ryman\, along with a stacked line-up of special guests. 7-8pm Happy Hour with 2 for 1 drinks. Stay after to meet the comedians!</span><br />\n<br />\n<span style="background-color:rgb(255\, 255\, 255)\; color:rgb(29\, 33\, 41)\; font-family:helvetica\,arial\,sans-serif\; font-size:14px">Tommy Ryman\, a semifinalist on NBC&rsquo\;s Last Comic Standing\, is an acclaimed comedian. His oddly-adorable stand-up landed him No. 2 on iTunes comedy charts for his album Having the Time of My Life. Named Best of the Midwest at Gilda&rsquo\;s Laugh Fest\, Tommy grew up in Minnesota jamming on clarinet for his new-age mom and kale-chip-making dad. He performs at top clubs\, colleges\, and festivals across the nation including the Great American Comedy Festival. Tommy was invited to be on Nickelodeon&rsquo\;s NickMom Night Out and has a full comedy special on Dry Bar Comedy. He&rsquo\;s worked alongside Nick Swardson\, Hannibal Buress\, Maria Bamford and Louie Anderson but none wear a cardigan quite like Tommy. Featured on Paste Magazine and regularly heard on SirusXM and iheartradio\, Tommy&rsquo\;s act can be described as absurdist and clever masked behind an endearing\, innocent demeanor. A Last Comic Standing judge raved\, &ldquo\;I have never seen anything like [Tommy] before in my whole life\, [he is] one-of-a-kind\, fantastic!&rdquo\;</span>
LOCATION:The Renwick Mansion 901 Tremont Avenue Davenport\, IA 52803
UID:e.2843.13582
SEQUENCE:3
DTSTAMP:20260422T233942Z
URL:https://member.quadcitieschamber.com/events/details/tomfoolery-on-tremont-15-13582
END:VEVENT

END:VCALENDAR
