BEGIN:VCALENDAR
VERSION:2.0
PRODID:-//ChamberMaster//Event Calendar 2.0//EN
METHOD:PUBLISH
X-PUBLISHED-TTL:P3D
REFRESH-INTERVAL:P3D
CALSCALE:GREGORIAN
BEGIN:VEVENT
DTSTART:20190324T000000Z
DTEND:20190324T070000Z
X-MICROSOFT-CDO-ALLDAYEVENT:FALSE
SUMMARY:Tomfoolery On Tremont 23 - Costaki Economopoulos
DESCRIPTION:For 20 years Costaki has written jokes for Bette Midler\, Jay Leno\, MTV and BET. You may have seen him on Showtime\, or heard him on Sirius\, but you probably know him best from his regular appearances on the nationally syndicated Bob & Tom Radio Show.\n\n\n\nDon't miss your chance to see Costaki Economopoulos\, special guest comics\, and your emcee Chris Schlichting on Saturday\, March 23rd\, at 7pm! $15 in advance\, $20 at the door. Happy hour with 2 for 1's from 6-7pm! Tickets are limited!
X-ALT-DESC;FMTTYPE=text/html:<span style="background-color:rgb(255\, 255\, 255)\; color:rgb(29\, 33\, 41)\; font-family:helvetica\,arial\,sans-serif\; font-size:14px">For 20 years Costaki has written jokes for Bette Midler\, Jay Leno\, MTV and BET. You may have seen him on Showtime\, or heard him on Sirius\, but you probably know him best from his regular appearances on the nationally syndicated Bob &amp\; Tom Radio Show.</span><br />\n<br />\n<span style="background-color:rgb(255\, 255\, 255)\; color:rgb(29\, 33\, 41)\; font-family:helvetica\,arial\,sans-serif\; font-size:14px">Don&#39\;t miss your chance to see Costaki Economopoulos\, special guest comics\, and your emcee Chris Schlichting on Saturday\, March 23rd\, at 7pm! $15 in advance\, $20 at the door. Happy hour with 2 for 1&#39\;s from 6-7pm! Tickets are limited!</span>
LOCATION:The Renwick Mansion 901 Tremont Avenue Davenport\, IA 52803
UID:e.2843.13798
SEQUENCE:3
DTSTAMP:20260422T195938Z
URL:https://member.quadcitieschamber.com/events/details/tomfoolery-on-tremont-23-costaki-economopoulos-13798
END:VEVENT

END:VCALENDAR
